BEGIN:VCALENDAR
VERSION:2.0
PRODID:DPCALENDAR
CALSCALE:GREGORIAN
BEGIN:VTIMEZONE
TZID:Europe/Berlin
X-MICROSOFT-CDO-TZID:4
BEGIN:STANDARD
DTSTART:20251026T010000
TZOFFSETFROM:+0200
TZOFFSETTO:+0100
TZNAME:CET
END:STANDARD
BEGIN:STANDARD
DTSTART:20261025T010000
TZOFFSETFROM:+0200
TZOFFSETTO:+0100
TZNAME:CET
END:STANDARD
BEGIN:DAYLIGHT
DTSTART:20260329T010000
TZOFFSETFROM:+0100
TZOFFSETTO:+0200
TZNAME:CEST
END:DAYLIGHT
END:VTIMEZONE
X-WR-TIMEZONE:Europe/Berlin
BEGIN:VEVENT
DTSTART;VALUE=DATE:20241110
DTEND;VALUE=DATE:20241111
UID:79F40132-7A72-4891-BCA2-9CC5C4000030
SUMMARY:OG-Zuchtschau
CREATED:20240928T091554Z
DTSTAMP:20240928T091554Z
URL:https://svlg07.de/index.php/terminkalender/og-zuchtschau-5
DESCRIPTION:Richter: Jens Lambertus, Wolfgang Haßgall
X-ALT-DESC;FMTTYPE=text/html:<p>Richter: Jens Lambertus, Wolfgang Haßgall</p>
LAST-MODIFIED:20240928T091711Z
SEQUENCE:77
LOCATION:
GEO:51.63901900;9.39782600
X-LOCATION-DISPLAYNAME:OG Beverungen
X-ACCESS:1
X-HITS:257
X-COLOR:3366CC
X-IMAGE-INTRO:https://svlg07.de/images/Veranstaltungen/IMG-20190426-.jpg
X-SHOW-END-TIME:0
END:VEVENT
BEGIN:VEVENT
DTSTART;VALUE=DATE:20251019
DTEND;VALUE=DATE:20251020
UID:46BF1024-C1AE-49C6-9B48-B407D273144C
SUMMARY:Kreispokal Paderborn
CREATED:20241026T080323Z
DTSTAMP:20241026T080323Z
URL:https://svlg07.de/index.php/terminkalender/kreispokal-paderborn-3
LAST-MODIFIED:20241026T080323Z
SEQUENCE:0
LOCATION:
GEO:51.73560700;8.73938800
X-LOCATION-DISPLAYNAME:OG Hundesport Paderborn
X-ACCESS:1
X-HITS:577
X-COLOR:3366CC
X-SHOW-END-TIME:0
END:VEVENT
BEGIN:VEVENT
DTSTART;VALUE=DATE:20260730
DTEND;VALUE=DATE:20260803
UID:CC08118D-D031-4F28-8BA8-FD3CB5BE0CE3
SUMMARY:VDH-DM
CREATED:20260116T160813Z
DTSTAMP:20260116T160813Z
URL:https://svlg07.de/index.php/terminkalender/vdh-dm-3
LAST-MODIFIED:20260413T090234Z
SEQUENCE:7491261
LOCATION:
GEO:49.31115891;10.73311330
X-LOCATION-DISPLAYNAME:Petersaurach
X-ACCESS:1
X-HITS:37
X-COLOR:3366CC
X-IMAGE-INTRO:https://svlg07.de/images/Veranstaltungen/VDHDM26.png
X-SHOW-END-TIME:0
END:VEVENT
BEGIN:VEVENT
DTSTART;VALUE=DATE:20260907
DTEND;VALUE=DATE:20260914
UID:030C1B1E-9A7F-48D8-86E1-BC51C9F89F99
SUMMARY:FCI-WM
CREATED:20260116T161041Z
DTSTAMP:20260116T161041Z
URL:https://svlg07.de/index.php/terminkalender/fci-wm-2
LAST-MODIFIED:20260116T161041Z
SEQUENCE:0
LOCATION:Polen
GEO:50.13211831;18.99016578
X-LOCATION-DISPLAYNAME:Tychy
X-ACCESS:1
X-HITS:8
X-COLOR:3366CC
X-SHOW-END-TIME:0
END:VEVENT
BEGIN:VEVENT
DTSTART;VALUE=DATE:20260925
DTEND;VALUE=DATE:20260928
UID:A48D12D3-CE50-48F2-B24D-4725C030366C
SUMMARY:BSZS
CREATED:20260116T154627Z
DTSTAMP:20260116T154627Z
URL:https://svlg07.de/index.php/terminkalender/bszs-4
LAST-MODIFIED:20260116T154627Z
SEQUENCE:0
LOCATION:
GEO:49.42619500;11.12632700
X-LOCATION-DISPLAYNAME:Nürnberg
X-ACCESS:1
X-HITS:108
X-COLOR:3366CC
X-SHOW-END-TIME:0
END:VEVENT
END:VCALENDAR