BEGIN:VCALENDAR
VERSION:2.0
PRODID:DPCALENDAR
CALSCALE:GREGORIAN
BEGIN:VTIMEZONE
TZID:Europe/Berlin
X-MICROSOFT-CDO-TZID:4
BEGIN:STANDARD
DTSTART:20251026T010000
TZOFFSETFROM:+0200
TZOFFSETTO:+0100
TZNAME:CET
END:STANDARD
BEGIN:STANDARD
DTSTART:20261025T010000
TZOFFSETFROM:+0200
TZOFFSETTO:+0100
TZNAME:CET
END:STANDARD
BEGIN:DAYLIGHT
DTSTART:20260329T010000
TZOFFSETFROM:+0100
TZOFFSETTO:+0200
TZNAME:CEST
END:DAYLIGHT
END:VTIMEZONE
X-WR-TIMEZONE:Europe/Berlin
BEGIN:VEVENT
DTSTART;VALUE=DATE:20230518
DTEND;VALUE=DATE:20230522
UID:518BB7B6-B7D0-4AEC-A211-BE8DBEA2580F
SUMMARY:Bundesqualifikation zur Universal-WM
CREATED:20230411T075221Z
DTSTAMP:20230411T075221Z
URL:https://www.schaeferhunde.de/wusv-universal
LAST-MODIFIED:20230504T081020Z
SEQUENCE:1988279
LOCATION:
GEO:51.72723800;8.80231400
X-LOCATION-DISPLAYNAME:OG Paderborn
X-ACCESS:1
X-HITS:26
X-COLOR:fa9d5f
X-SHOW-END-TIME:0
END:VEVENT
BEGIN:VEVENT
DTSTART;VALUE=DATE:20230527
DTEND;VALUE=DATE:20230530
UID:25CECAB9-7F8E-48EA-9BB2-E3F4F5A87C09
SUMMARY:DJJM
CREATED:20230504T081514Z
DTSTAMP:20230504T081514Z
URL:https://www.schaeferhunde.de/djjm
LAST-MODIFIED:20230527T080313Z
SEQUENCE:1986479
LOCATION:
GEO:50.83997100;10.00792413
X-LOCATION-DISPLAYNAME:Philippsthal
X-ACCESS:1
X-HITS:717
X-COLOR:fa9d5f
X-IMAGE-INTRO:https://svlg07.de/images/Veranstaltungen/DJJM_2019.jpg
X-SHOW-END-TIME:0
END:VEVENT
BEGIN:VEVENT
DTSTART;VALUE=DATE:20230630
DTEND;VALUE=DATE:20230703
UID:AD0D75A7-56BA-4662-BECF-42F493E6D3F8
SUMMARY:Bundes-FCI
CREATED:20230504T080355Z
DTSTAMP:20230504T080355Z
URL:https://www.schaeferhunde.de/bundes-fci
DESCRIPTION:Richter: Gerd Dexel (A), Astrid Gätje (B), Dennis Große-Wietfeld (C) 
X-ALT-DESC;FMTTYPE=text/html:<p>Richter: Gerd Dexel (A), Astrid Gätje (B), Dennis Große-Wietfeld (C)&nbsp;</p>
LAST-MODIFIED:20230527T085023Z
SEQUENCE:1989988
LOCATION:
GEO:50.02894135;10.58739603
X-LOCATION-DISPLAYNAME:Zeil am Main
X-ACCESS:1
X-HITS:1578
X-COLOR:fa9d5f
X-IMAGE-INTRO:https://svlg07.de/images/Veranstaltungen/IMG_8608_209.jpg
X-SHOW-END-TIME:0
END:VEVENT
BEGIN:VEVENT
DTSTART;VALUE=DATE:20230713
DTEND;VALUE=DATE:20230717
UID:84B76005-31CB-4191-9E99-C9A150D54C23
SUMMARY:WUSV Universal WM
CREATED:20230504T081632Z
DTSTAMP:20230504T081632Z
URL:https://www.wusvuniversalsieger2023.ch/
DESCRIPTION:Richter: P. Gutierrez (ESP), R. Markschläger (AUT), H. Arcon (SLO), M. van Dorssen (GER)
X-ALT-DESC;FMTTYPE=text/html:<p>Richter: P. Gutierrez (ESP), R. Markschläger (AUT), H. Arcon (SLO), M. van Dorssen (GER)</p>
LAST-MODIFIED:20230527T085512Z
SEQUENCE:1989520
LOCATION:
GEO:47.17556928;8.10614028
X-LOCATION-DISPLAYNAME:Sursee / Schweiz
X-ACCESS:1
X-HITS:1409
X-COLOR:fa9d5f
X-IMAGE-INTRO:https://svlg07.de/images/Veranstaltungen/WUSVUNI.png
X-SHOW-END-TIME:0
END:VEVENT
BEGIN:VEVENT
DTSTART;VALUE=DATE:20230908
DTEND;VALUE=DATE:20230911
UID:F853738F-0E28-473C-A19A-9F6BC92F8E92
SUMMARY:BSZS
CREATED:20230411T080823Z
DTSTAMP:20230411T080823Z
URL:https://svlg07.de/index.php/terminkalender/bszs
LAST-MODIFIED:20230530T135834Z
SEQUENCE:4254611
LOCATION:
GEO:49.42619500;11.12632700
X-LOCATION-DISPLAYNAME:Nürnberg
X-ACCESS:1
X-HITS:857
X-COLOR:fa9d5f
X-IMAGE-INTRO:https://svlg07.de/images/Veranstaltungen/IMG-20190426-.jpg
X-SHOW-END-TIME:0
END:VEVENT
BEGIN:VEVENT
DTSTART;VALUE=DATE:20230915
DTEND;VALUE=DATE:20230918
UID:FC000C0B-5D80-4D98-A8EA-A8D3E5EDD071
SUMMARY:BSP
CREATED:20230411T080855Z
DTSTAMP:20230411T080855Z
URL:https://svlg07.de/index.php/terminkalender/bsp
LAST-MODIFIED:20230530T140110Z
SEQUENCE:4254735
LOCATION:
GEO:52.70736100;7.29623200
X-LOCATION-DISPLAYNAME:Meppen
X-ACCESS:1
X-HITS:1262
X-COLOR:fa9d5f
X-IMAGE-INTRO:https://svlg07.de/images/Veranstaltungen/BSP23.png
X-SHOW-END-TIME:0
END:VEVENT
BEGIN:VEVENT
DTSTART;VALUE=DATE:20231004
DTEND;VALUE=DATE:20231009
UID:E6D2C182-2ED3-4AC0-B1BF-38B4485D962E
SUMMARY:WUSV-WM
CREATED:20230504T081800Z
DTSTAMP:20230504T081800Z
URL:http://de.wusv2022.com/
LAST-MODIFIED:20230824T075646Z
SEQUENCE:9675526
LOCATION:
GEO:47.63342300;17.59259300
X-LOCATION-DISPLAYNAME:Györ / Ungarn
X-ACCESS:1
X-HITS:1624
X-COLOR:fa9d5f
X-IMAGE-INTRO:https://svlg07.de/images/Veranstaltungen/WUSV23.jpg
X-SHOW-END-TIME:0
END:VEVENT
BEGIN:VEVENT
DTSTART;VALUE=DATE:20231020
DTEND;VALUE=DATE:20231023
UID:422228E6-63F2-40FC-B860-EA2BCB1657A2
SUMMARY:Bundes-FH
CREATED:20230504T082524Z
DTSTAMP:20230504T082524Z
URL:https://www.schaeferhunde.de/bfh
LAST-MODIFIED:20230824T075625Z
SEQUENCE:9675061
LOCATION:
GEO:48.88662500;12.53444634
X-LOCATION-DISPLAYNAME:Straubing
X-ACCESS:1
X-HITS:1034
X-COLOR:fa9d5f
X-IMAGE-INTRO:https://svlg07.de/images/Veranstaltungen/BFH23.jpg
X-SHOW-END-TIME:0
END:VEVENT
BEGIN:VEVENT
DTSTART;VALUE=DATE:20240628
DTEND;VALUE=DATE:20240701
UID:C00BA401-0F05-4B93-9FAD-E6432F3E4C1D
SUMMARY:SV-Bundes FCI
CREATED:20240325T094935Z
DTSTAMP:20240325T094935Z
URL:https://svlg07.de/index.php/terminkalender/sv-bundes-fci
DESCRIPTION:https://www.schaeferhunde.de/bundes-fci
X-ALT-DESC;FMTTYPE=text/html:<p><a href="https://www.schaeferhunde.de/bundes-fci">https://www.schaeferhunde.de/bundes-fci</a></p>
LAST-MODIFIED:20240426T071843Z
SEQUENCE:2755748
LOCATION:
GEO:50.20611164;11.34030530
X-LOCATION-DISPLAYNAME:OG Kronach / Weißenbrunn
X-ACCESS:1
X-HITS:2320
X-COLOR:fa9d5f
X-IMAGE-INTRO:https://svlg07.de/images/Veranstaltungen/BFCI24.jpg
X-SHOW-END-TIME:0
END:VEVENT
BEGIN:VEVENT
DTSTART;VALUE=DATE:20240802
DTEND;VALUE=DATE:20240805
UID:1E3E4DB9-0AD5-4C01-AF46-131313A404D1
SUMMARY:VDH-DM
CREATED:20240325T095557Z
DTSTAMP:20240325T095557Z
URL:https://svlg07.de/index.php/terminkalender/vdh-dm
LAST-MODIFIED:20240624T090931Z
SEQUENCE:7859614
LOCATION:
GEO:52.27862900;7.45978509
X-LOCATION-DISPLAYNAME:Rheine
X-ACCESS:1
X-HITS:1205
X-COLOR:fa9d5f
X-IMAGE-INTRO:https://svlg07.de/images/Veranstaltungen/plakat_vdh_dm_igp_24kl.jpg
X-SHOW-END-TIME:0
END:VEVENT
BEGIN:VEVENT
DTSTART;VALUE=DATE:20240905
DTEND;VALUE=DATE:20240908
UID:5F695D5A-64D7-4B61-8168-17339C70975A
SUMMARY:BSZS
CREATED:20231128T161744Z
DTSTAMP:20231128T161744Z
URL:https://svlg07.de/index.php/terminkalender/bszs-2
LAST-MODIFIED:20240816T190206Z
SEQUENCE:22646662
LOCATION:
GEO:49.42619500;11.12632700
X-LOCATION-DISPLAYNAME:Nürnberg
X-ACCESS:1
X-HITS:915
X-COLOR:fa9d5f
X-IMAGE-INTRO:https://svlg07.de/images/Veranstaltungen/BSZS.jpg
X-SHOW-END-TIME:0
END:VEVENT
BEGIN:VEVENT
DTSTART;VALUE=DATE:20240920
DTEND;VALUE=DATE:20240923
UID:01A5D021-B166-42F8-8EDB-8460F3AB3248
SUMMARY:BSP
CREATED:20240303T092245Z
DTSTAMP:20240303T092245Z
URL:https://svlg07.de/index.php/terminkalender/bsp-2
DESCRIPTION:Richter:A: Marcus WalterB: Ludger VortkampC: Bernd Fornal\NMannschaft LG 07Mannschaftsführer Stefan Bobe + Dominik Zerning\N0701  Petra Dexel0702  Klaus Schubert0703  Thomas Wesselmann0704  Dennis Große-Wietfeld0705  Mark Börger0706  Luca Große-Wietfeld (Jugend)\N0707  (1.Ersatz) Alfons Nelling0708  (2.Ersatz) Sebastian Bartsch
X-ALT-DESC;FMTTYPE=text/html:<p><span style="font-size: 12pt; font-family: arial, helvetica, sans-serif;">Richter:</span><br /><span style="font-size: 12pt; font-family: arial, helvetica, sans-serif;">A: Marcus Walter</span><br /><span style="font-size: 12pt; font-family: arial, helvetica, sans-serif;">B: Ludger Vortkamp</span><br /><span style="font-size: 12pt; font-family: arial, helvetica, sans-serif;">C: Bernd Fornal</span></p><p><span style="font-size: 12pt; font-family: arial, helvetica, sans-serif;">Mannschaft LG 07</span><br /><span style="font-size: 12pt; font-family: arial, helvetica, sans-serif;">Mannschaftsführer Stefan Bobe + Dominik Zerning</span></p><p><span style="font-size: 12pt; font-family: arial, helvetica, sans-serif;"></span><br /><span style="font-size: 12pt; font-family: arial, helvetica, sans-serif;">0701&nbsp; Petra Dexel</span><br /><span style="font-size: 12pt; font-family: arial, helvetica, sans-serif;">0702&nbsp; Klaus Schubert</span><br /><span style="font-size: 12pt; font-family: arial, helvetica, sans-serif;">0703&nbsp; Thomas Wesselmann</span><br /><span style="font-size: 12pt; font-family: arial, helvetica, sans-serif;">0704&nbsp; Dennis Große-Wietfeld</span><br /><span style="font-size: 12pt; font-family: arial, helvetica, sans-serif;">0705&nbsp; Mark Börger</span><br /><span style="font-size: 12pt; font-family: arial, helvetica, sans-serif;">0706&nbsp; Luca Große-Wietfeld<span style="font-size: 10pt;"> (Jugend)</span></span></p><p><span style="font-size: 12pt; font-family: arial, helvetica, sans-serif;">0707&nbsp; <span style="font-size: 10pt;">(1.Ersatz)</span> Alfons Nelling</span><br /><span style="font-size: 12pt; font-family: arial, helvetica, sans-serif;">0708&nbsp; <span style="font-size: 10pt;">(2.Ersatz)</span> Sebastian Bartsch</span></p>
LAST-MODIFIED:20240815T142515Z
SEQUENCE:14274150
LOCATION:
GEO:49.13486675;9.20380716
X-LOCATION-DISPLAYNAME:Heilbronn
X-ACCESS:1
X-HITS:1269
X-COLOR:fa9d5f
X-IMAGE-INTRO:https://svlg07.de/images/Veranstaltungen/BSP24a.jpg
X-SHOW-END-TIME:0
END:VEVENT
BEGIN:VEVENT
DTSTART;VALUE=DATE:20240925
DTEND;VALUE=DATE:20240930
UID:E6637020-6A2A-4EF6-8645-AAC0ED772852
SUMMARY:FCI-WM IGP 2024
CREATED:20240804T083542Z
DTSTAMP:20240804T083542Z
URL:https://svlg07.de/index.php/terminkalender/fci-wm-igp-2024
DESCRIPTION:https://fciigp2024.com
X-ALT-DESC;FMTTYPE=text/html:<p><a href="https://fciigp2024.com">https://fciigp2024.com</a></p>
LAST-MODIFIED:20240804T083811Z
SEQUENCE:149
LOCATION:Kroatien
GEO:45.36584430;15.65752090
X-LOCATION-DISPLAYNAME:Vinkovci, Kroatien
X-ACCESS:1
X-HITS:1178
X-COLOR:fa9d5f
X-IMAGE-INTRO:https://svlg07.de/images/fci_wm_ipo_2024.png
X-SHOW-END-TIME:0
END:VEVENT
BEGIN:VEVENT
DTSTART;VALUE=DATE:20241001
DTEND;VALUE=DATE:20241007
UID:C903EB9B-6896-4F51-AC03-5A5DDCB355EF
SUMMARY:WUSV-WM
CREATED:20231118T133951Z
DTSTAMP:20231118T133951Z
URL:https://svlg07.de/index.php/terminkalender/wusv-wm-2
LAST-MODIFIED:20240322T094615Z
SEQUENCE:10785984
LOCATION:
GEO:52.70736100;7.29623200
X-LOCATION-DISPLAYNAME:Meppen
X-ACCESS:1
X-HITS:1154
X-COLOR:fa9d5f
X-IMAGE-INTRO:https://svlg07.de/images/Veranstaltungen/wm2024.jpg
X-SHOW-END-TIME:0
END:VEVENT
BEGIN:VEVENT
DTSTART;VALUE=DATE:20241025
DTEND;VALUE=DATE:20241028
UID:6B4D48A0-2BE3-4B70-8981-DF98BEA8CD57
SUMMARY:Bundes-FH
CREATED:20240303T093207Z
DTSTAMP:20240303T093207Z
URL:https://svlg07.de/index.php/terminkalender/bundes-fh-2
DESCRIPTION:https://sv-bfh-2024.webnode.page/
X-ALT-DESC;FMTTYPE=text/html:<p><a href="https://sv-bfh-2024.webnode.page/">https://sv-bfh-2024.webnode.page/</a></p>
LAST-MODIFIED:20241016T075440Z
SEQUENCE:19606953
LOCATION:
GEO:51.04754092;12.78704459
X-LOCATION-DISPLAYNAME:Rochlitz
X-ACCESS:1
X-HITS:1019
X-COLOR:fa9d5f
X-IMAGE-INTRO:https://svlg07.de/images/Veranstaltungen/BFH24.jpg
X-SHOW-END-TIME:0
END:VEVENT
BEGIN:VEVENT
DTSTART;VALUE=DATE:20250502
DTEND;VALUE=DATE:20250505
UID:3F3CDB00-2EFD-4E83-954E-79A55099A1A8
SUMMARY:Bundes-Universal-Quali
CREATED:20241026T074905Z
DTSTAMP:20241026T074905Z
URL:https://svlg07.de/index.php/terminkalender/bundes-universal-quali
LAST-MODIFIED:20250313T161954Z
SEQUENCE:11953849
LOCATION:
GEO:50.86222668;6.87907184
X-LOCATION-DISPLAYNAME:Hürth
X-ACCESS:1
X-HITS:908
X-COLOR:fa9d5f
X-IMAGE-INTRO:https://svlg07.de/images/Veranstaltungen/Screenshot_2.png
X-SHOW-END-TIME:0
END:VEVENT
BEGIN:VEVENT
DTSTART;VALUE=DATE:20250620
DTEND;VALUE=DATE:20250623
UID:934FEDE9-50DC-46F1-9BFE-0A2316F748B8
SUMMARY:Bundes-FCI
CREATED:20250105T083603Z
DTSTAMP:20250105T083603Z
URL:https://svlg07.de/index.php/terminkalender/bundes-fci-3
LAST-MODIFIED:20250521T135823Z
SEQUENCE:11769740
LOCATION:
GEO:50.78804922;10.28676672
X-LOCATION-DISPLAYNAME:Sportplatz Immelborn
X-ACCESS:1
X-HITS:967
X-COLOR:fa9d5f
X-IMAGE-INTRO:https://svlg07.de/images/Veranstaltungen/BFCI2025.png
X-SHOW-END-TIME:0
END:VEVENT
BEGIN:VEVENT
DTSTART;VALUE=DATE:20250704
DTEND;VALUE=DATE:20250707
UID:9E511940-20AA-4D13-8091-AF05F8F6A287
SUMMARY:WUSV-Universal-WM
CREATED:20241026T075506Z
DTSTAMP:20241026T075506Z
URL:https://svlg07.de/index.php/terminkalender/wusv-universal-wm-2
LAST-MODIFIED:20250623T073713Z
SEQUENCE:20734927
LOCATION:
GEO:50.14356093;8.88426910
X-LOCATION-DISPLAYNAME:Herbert Dröse Stadion Hanau
X-ACCESS:1
X-HITS:831
X-COLOR:fa9d5f
X-IMAGE-INTRO:https://svlg07.de/images/Veranstaltungen/uniwm25.png
X-SHOW-END-TIME:0
END:VEVENT
BEGIN:VEVENT
DTSTART;VALUE=DATE:20250731
DTEND;VALUE=DATE:20250804
UID:5514AC0A-348B-4F83-A221-1F3898581843
SUMMARY:VDH-DM
CREATED:20250521T142431Z
DTSTAMP:20250521T142431Z
URL:https://svlg07.de/index.php/terminkalender/vdh-dm-2
DESCRIPTION:Veranstaltungsseite
X-ALT-DESC;FMTTYPE=text/html:<p><a href="https://sv-einheit-kamenz.de/hunde-2/">Veranstaltungsseite</a></p>
LAST-MODIFIED:20250630T074521Z
SEQUENCE:3432050
LOCATION:
GEO:51.28326450;14.09827011
X-LOCATION-DISPLAYNAME:Stadion d.Jugend Kamenz
X-ACCESS:1
X-HITS:641
X-COLOR:fa9d5f
X-IMAGE-INTRO:https://svlg07.de/images/Veranstaltungen/vdh_dm_igp_2025.png
X-SHOW-END-TIME:0
END:VEVENT
BEGIN:VEVENT
DTSTART;VALUE=DATE:20250904
DTEND;VALUE=DATE:20250908
UID:1E12E2FA-5C22-4C31-B443-2D3A6E5EB81B
SUMMARY:BSZS
CREATED:20250129T154825Z
DTSTAMP:20250129T154825Z
URL:https://svlg07.de/index.php/terminkalender/bszs-3
LAST-MODIFIED:20250521T140307Z
SEQUENCE:9670482
LOCATION:
GEO:49.42619500;11.12632700
X-LOCATION-DISPLAYNAME:Nürnberg
X-ACCESS:1
X-HITS:682
X-COLOR:fa9d5f
X-IMAGE-INTRO:https://svlg07.de/images/Veranstaltungen/BSZS25.png
X-SHOW-END-TIME:0
END:VEVENT
BEGIN:VEVENT
DTSTART;VALUE=DATE:20250912
DTEND;VALUE=DATE:20250915
UID:CBADEE0F-25EF-4C3D-86D4-B53135C10349
SUMMARY:BSP
CREATED:20250129T154354Z
DTSTAMP:20250129T154354Z
URL:https://svlg07.de/index.php/terminkalender/bsp-3
LAST-MODIFIED:20250521T140603Z
SEQUENCE:9670929
LOCATION:
GEO:51.48312295;11.91149073
X-LOCATION-DISPLAYNAME:Stadion Halle-Neustadt
X-ACCESS:1
X-HITS:504
X-COLOR:fa9d5f
X-IMAGE-INTRO:https://svlg07.de/images/Veranstaltungen/BSP25.png
X-SHOW-END-TIME:0
END:VEVENT
BEGIN:VEVENT
DTSTART;VALUE=DATE:20250915
DTEND;VALUE=DATE:20250922
UID:B1CA02E0-4BCC-47AE-A176-C02E0D36EFBF
SUMMARY:FCI-WM
CREATED:20250521T143321Z
DTSTAMP:20250521T143321Z
URL:https://svlg07.de/index.php/terminkalender/fci-wm
DESCRIPTION:https://www.fciigp2025.com/
X-ALT-DESC;FMTTYPE=text/html:<p><a href="https://www.fciigp2025.com/">https://www.fciigp2025.com/</a></p>
LAST-MODIFIED:20250630T074844Z
SEQUENCE:3431723
LOCATION:
GEO:42.87575137;-2.65408826
X-LOCATION-DISPLAYNAME:Stadion in Vitoria
X-ACCESS:1
X-HITS:675
X-COLOR:fa9d5f
X-IMAGE-INTRO:https://svlg07.de/images/Veranstaltungen/Screenshot_3.png
X-SHOW-END-TIME:0
END:VEVENT
BEGIN:VEVENT
DTSTART;VALUE=DATE:20251001
DTEND;VALUE=DATE:20251006
UID:1E3E337A-25BD-4226-8D31-74A3ADC5115A
SUMMARY:WUSV-WM
CREATED:20250521T141954Z
DTSTAMP:20250521T141954Z
URL:https://svlg07.de/index.php/terminkalender/wusv-wm-3
DESCRIPTION:https://wusv2025.si/
X-ALT-DESC;FMTTYPE=text/html:<p><a href="https://wusv2025.si/">https://wusv2025.si/</a></p>
LAST-MODIFIED:20250630T075115Z
SEQUENCE:3432681
LOCATION:
GEO:45.95577367;13.64209721
X-LOCATION-DISPLAYNAME:Stadion Nova Gorica
X-ACCESS:1
X-HITS:581
X-COLOR:fa9d5f
X-SHOW-END-TIME:0
END:VEVENT
BEGIN:VEVENT
DTSTART;VALUE=DATE:20251025
DTEND;VALUE=DATE:20251027
UID:D6F9F24A-4440-4ACA-A5B5-A22BA9B522F1
SUMMARY:Bundes-FH
CREATED:20250129T154947Z
DTSTAMP:20250129T154947Z
URL:https://svlg07.de/index.php/terminkalender/bundes-fh-3
LAST-MODIFIED:20250911T125606Z
SEQUENCE:19429579
LOCATION:
GEO:51.72723800;8.80231400
X-LOCATION-DISPLAYNAME:OG Paderborn
X-ACCESS:1
X-HITS:813
X-COLOR:fa9d5f
X-IMAGE-INTRO:https://svlg07.de/images/Veranstaltungen/A_Werth_2.jpg
X-SHOW-END-TIME:0
END:VEVENT
BEGIN:VEVENT
DTSTART;VALUE=DATE:20260407
DTEND;VALUE=DATE:20260413
UID:EECB2A8B-67E8-4428-9C25-7DC6472D684E
SUMMARY:FCI-IGP FH
CREATED:20260116T161440Z
DTSTAMP:20260116T161440Z
URL:https://svlg07.de/index.php/terminkalender/fci-igp-fh
LAST-MODIFIED:20260116T161632Z
SEQUENCE:112
LOCATION:Slowakei
GEO:48.74115220;19.45286460
X-LOCATION-DISPLAYNAME:Vranov nad Topl'ou
X-ACCESS:1
X-HITS:336
X-COLOR:fa9d5f
X-IMAGE-INTRO:https://svlg07.de/images/Veranstaltungen/Faehrte.png
X-SHOW-END-TIME:0
END:VEVENT
BEGIN:VEVENT
DTSTART;VALUE=DATE:20260522
DTEND;VALUE=DATE:20260526
UID:FDFAAD69-64D7-4F56-B074-AD83D92B946B
SUMMARY:DJJM
CREATED:20260116T154746Z
DTSTAMP:20260116T154746Z
URL:https://svlg07.de/index.php/terminkalender/djjm-5
LAST-MODIFIED:20260413T085624Z
SEQUENCE:7492118
LOCATION:
GEO:51.28326450;14.09827011
X-LOCATION-DISPLAYNAME:Stadion d.Jugend Kamenz
X-ACCESS:1
X-HITS:201
X-COLOR:fa9d5f
X-IMAGE-INTRO:https://svlg07.de/images/Veranstaltungen/DJJM26.png
X-SHOW-END-TIME:0
END:VEVENT
BEGIN:VEVENT
DTSTART;VALUE=DATE:20260612
DTEND;VALUE=DATE:20260615
UID:E566627E-774A-40C4-AC71-CD8B76378772
SUMMARY:Bundes-FCI
CREATED:20260116T155101Z
DTSTAMP:20260116T155101Z
URL:https://svlg07.de/index.php/terminkalender/bundes-fci-4
LAST-MODIFIED:20260413T085356Z
SEQUENCE:7491775
LOCATION:
GEO:51.77881066;7.89205179
X-LOCATION-DISPLAYNAME:Ahlen
X-ACCESS:1
X-HITS:84
X-COLOR:fa9d5f
X-IMAGE-INTRO:https://svlg07.de/images/Veranstaltungen/BFCI26.png
X-SHOW-END-TIME:0
END:VEVENT
BEGIN:VEVENT
DTSTART;VALUE=DATE:20260619
DTEND;VALUE=DATE:20260622
UID:49ED6020-96F6-44D2-ABC5-615FAA01361D
SUMMARY:WUSV-Universal-WM
CREATED:20260116T155352Z
DTSTAMP:20260116T155352Z
URL:https://svlg07.de/index.php/terminkalender/wusv-universal-wm-3
DESCRIPTION:https://wusvuniversal2026.com/
X-ALT-DESC;FMTTYPE=text/html:<p><a href="https://wusvuniversal2026.com/">https://wusvuniversal2026.com/</a></p>
LAST-MODIFIED:20260413T085905Z
SEQUENCE:7491913
LOCATION:
GEO:51.66777062;5.06141630
X-LOCATION-DISPLAYNAME:Kaatsheuvel, NL
X-ACCESS:1
X-HITS:66
X-COLOR:fa9d5f
X-IMAGE-INTRO:https://svlg07.de/images/Veranstaltungen/WUSVUni26.png
X-SHOW-END-TIME:0
END:VEVENT
BEGIN:VEVENT
DTSTART;VALUE=DATE:20260911
DTEND;VALUE=DATE:20260914
UID:67976601-F97C-4731-9DAD-70412B2DC498
SUMMARY:BSP
CREATED:20260116T154547Z
DTSTAMP:20260116T154547Z
URL:https://svlg07.de/index.php/terminkalender/bsp-4
LAST-MODIFIED:20260116T154547Z
SEQUENCE:0
LOCATION:
GEO:52.70736100;7.29623200
X-LOCATION-DISPLAYNAME:Meppen
X-ACCESS:1
X-HITS:69
X-COLOR:fa9d5f
X-SHOW-END-TIME:0
END:VEVENT
BEGIN:VEVENT
DTSTART;VALUE=DATE:20261005
DTEND;VALUE=DATE:20261012
UID:729988D6-2B8A-4EE2-82FF-FD25F36A7CE9
SUMMARY:WUSV-WM
CREATED:20260116T160316Z
DTSTAMP:20260116T160316Z
URL:https://svlg07.de/index.php/terminkalender/wusv-wm-4
LAST-MODIFIED:20260116T160316Z
SEQUENCE:0
LOCATION:Spanien
GEO:42.55118367;-3.32777686
X-LOCATION-DISPLAYNAME:Briviesca
X-ACCESS:1
X-HITS:9
X-COLOR:fa9d5f
X-SHOW-END-TIME:0
END:VEVENT
END:VCALENDAR