BEGIN:VCALENDAR
VERSION:2.0
PRODID:DPCALENDAR
CALSCALE:GREGORIAN
BEGIN:VTIMEZONE
TZID:Europe/Berlin
X-MICROSOFT-CDO-TZID:4
BEGIN:STANDARD
DTSTART:20251026T010000
TZOFFSETFROM:+0200
TZOFFSETTO:+0100
TZNAME:CET
END:STANDARD
BEGIN:STANDARD
DTSTART:20261025T010000
TZOFFSETFROM:+0200
TZOFFSETTO:+0100
TZNAME:CET
END:STANDARD
BEGIN:DAYLIGHT
DTSTART:20260329T010000
TZOFFSETFROM:+0100
TZOFFSETTO:+0200
TZNAME:CEST
END:DAYLIGHT
END:VTIMEZONE
X-WR-TIMEZONE:Europe/Berlin
BEGIN:VEVENT
DTSTART;VALUE=DATE:20230513
DTEND;VALUE=DATE:20230514
UID:89EA3A5B-5981-40BE-9A53-55590FE30392
SUMMARY:Wesensbeurteilung
CREATED:20230411T075011Z
DTSTAMP:20230411T075011Z
URL:https://svlg07.de/index.php/terminkalender/wesensbeurteilung
DESCRIPTION:Beurteiler D.Große-Wietfeld
X-ALT-DESC;FMTTYPE=text/html:<p>Beurteiler D.Große-Wietfeld</p>
LAST-MODIFIED:20230411T075124Z
SEQUENCE:73
LOCATION:
GEO:51.96265900;8.89565500
X-LOCATION-DISPLAYNAME:OG Detmold-Nord
X-ACCESS:1
X-HITS:40
X-COLOR:38f209
X-SHOW-END-TIME:0
END:VEVENT
BEGIN:VEVENT
DTSTART;VALUE=DATE:20230610
DTEND;VALUE=DATE:20230611
UID:829D3027-8519-41E8-B551-95C7053EC837
SUMMARY:Wesensbeurteilung
CREATED:20230411T075352Z
DTSTAMP:20230411T075352Z
URL:https://svlg07.de/index.php/terminkalender/wesensbeurteilung-2
DESCRIPTION:Beurteiler K.Schreiber 
X-ALT-DESC;FMTTYPE=text/html:<p>Beurteiler K.Schreiber&nbsp;</p>
LAST-MODIFIED:20230527T084814Z
SEQUENCE:3977662
LOCATION:
GEO:51.83639500;8.27145900
X-LOCATION-DISPLAYNAME:OG Rheda
X-ACCESS:1
X-HITS:559
X-COLOR:38f209
X-IMAGE-INTRO:https://svlg07.de/images/Veranstaltungen/WB.png
X-SHOW-END-TIME:0
END:VEVENT
BEGIN:VEVENT
DTSTART;VALUE=DATE:20230715
DTEND;VALUE=DATE:20230716
UID:C8E4E7FD-9504-4628-B5B9-AE6EF5CFA057
SUMMARY:Wesensbeurteilung
CREATED:20230411T075728Z
DTSTAMP:20230411T075728Z
URL:https://svlg07.de/index.php/terminkalender/wesensbeurteilung-3
DESCRIPTION:Beurteiler G.Dexel
X-ALT-DESC;FMTTYPE=text/html:<p>Beurteiler G.Dexel</p>
LAST-MODIFIED:20230527T083917Z
SEQUENCE:3976909
LOCATION:
GEO:51.97046200;8.24474200
X-LOCATION-DISPLAYNAME:OG Harsewinkel
X-ACCESS:1
X-HITS:943
X-COLOR:38f209
X-IMAGE-INTRO:https://svlg07.de/images/Veranstaltungen/Wesensb.jpg
X-SHOW-END-TIME:0
END:VEVENT
BEGIN:VEVENT
DTSTART;VALUE=DATE:20230819
DTEND;VALUE=DATE:20230820
UID:DC6AAA35-22C5-4A59-ADC7-1C8069EC27BE
SUMMARY:Wesensbeurteilung
CREATED:20230411T080623Z
DTSTAMP:20230411T080623Z
URL:https://svlg07.de/index.php/terminkalender/wesensbeurteilung-4
DESCRIPTION:Beurteiler: K.Schreiber
X-ALT-DESC;FMTTYPE=text/html:<p>Beurteiler: K.Schreiber</p>
LAST-MODIFIED:20230527T084211Z
SEQUENCE:3976548
LOCATION:
GEO:51.82725000;8.68635700
X-LOCATION-DISPLAYNAME:OG Hövelhof
X-ACCESS:1
X-HITS:884
X-COLOR:38f209
X-IMAGE-INTRO:https://svlg07.de/images/Veranstaltungen/WB.png
X-SHOW-END-TIME:0
END:VEVENT
BEGIN:VEVENT
DTSTART;VALUE=DATE:20230902
DTEND;VALUE=DATE:20230903
UID:E3153EB6-7A8D-4E78-A995-1E3A6E5A29EC
SUMMARY:Wesensbeurteilung
CREATED:20230411T080739Z
DTSTAMP:20230411T080739Z
URL:https://svlg07.de/index.php/terminkalender/wesensbeurteilung-5
DESCRIPTION:Beurteiler T.Holzkämper
X-ALT-DESC;FMTTYPE=text/html:<p>Beurteiler T.Holzkämper</p>
LAST-MODIFIED:20230710T073555Z
SEQUENCE:7774096
LOCATION:
GEO:51.86397500;8.52874400
X-LOCATION-DISPLAYNAME:OG Verl
X-ACCESS:1
X-HITS:1041
X-COLOR:38f209
X-IMAGE-INTRO:https://svlg07.de/images/Veranstaltungen/Wesensb4.jpg
X-SHOW-END-TIME:0
END:VEVENT
BEGIN:VEVENT
DTSTART;VALUE=DATE:20231014
DTEND;VALUE=DATE:20231015
UID:EE0C706A-2A3F-4B62-8776-4BA85CF48750
SUMMARY:Wesensbeurteilung
CREATED:20230411T081044Z
DTSTAMP:20230411T081044Z
URL:https://svlg07.de/index.php/terminkalender/wesensbeurteilung-6
DESCRIPTION:Beurteiler G.Dexel
X-ALT-DESC;FMTTYPE=text/html:<p>Beurteiler G.Dexel</p>
LAST-MODIFIED:20230824T075749Z
SEQUENCE:11663225
LOCATION:
GEO:52.00420200;8.79612900
X-LOCATION-DISPLAYNAME:OG Lage/Lippe
X-ACCESS:1
X-HITS:896
X-COLOR:38f209
X-IMAGE-INTRO:https://svlg07.de/images/Veranstaltungen/WB.png
X-SHOW-END-TIME:0
END:VEVENT
BEGIN:VEVENT
DTSTART;VALUE=DATE:20231111
DTEND;VALUE=DATE:20231112
UID:3D4BBA8F-6B5A-4A7B-93D7-97FEA4422D58
SUMMARY:Wesensbeurteilung
CREATED:20230411T081317Z
DTSTAMP:20230411T081317Z
URL:https://svlg07.de/index.php/terminkalender/wesensbeurteilung-7
DESCRIPTION:Beurteiler A.Heß
X-ALT-DESC;FMTTYPE=text/html:<p>Beurteiler A.Heß</p>
LAST-MODIFIED:20230824T080102Z
SEQUENCE:11663265
LOCATION:
GEO:52.17592300;8.61422100
X-LOCATION-DISPLAYNAME:OG Doberg-Hiddenhausen
X-ACCESS:1
X-HITS:1129
X-COLOR:38f209
X-IMAGE-INTRO:https://svlg07.de/images/Veranstaltungen/Wesensb2.jpg
X-SHOW-END-TIME:0
END:VEVENT
BEGIN:VEVENT
DTSTART;VALUE=DATE:20231209
DTEND;VALUE=DATE:20231210
UID:3000EC22-02C1-4932-B9C7-A4584181CF73
SUMMARY:Wesensbeurteilung
CREATED:20230411T081508Z
DTSTAMP:20230411T081508Z
URL:https://svlg07.de/index.php/terminkalender/wesensbeurteilung-8
DESCRIPTION:Beurteiler T.Holzkämper
X-ALT-DESC;FMTTYPE=text/html:<p>Beurteiler T.Holzkämper</p>
LAST-MODIFIED:20231023T182529Z
SEQUENCE:16884621
LOCATION:
GEO:51.73660400;8.27234400
X-LOCATION-DISPLAYNAME:OG Wadersloh
X-ACCESS:1
X-HITS:1090
X-COLOR:38f209
X-IMAGE-INTRO:https://svlg07.de/images/Veranstaltungen/Wesensb.jpg
X-SHOW-END-TIME:0
END:VEVENT
BEGIN:VEVENT
DTSTART;VALUE=DATE:20240113
DTEND;VALUE=DATE:20240114
UID:990A3C8E-5E74-47DF-BCD0-96F31CDFABAE
SUMMARY:Wesensbeurteilung
CREATED:20231118T092227Z
DTSTAMP:20231118T092227Z
URL:https://svlg07.de/index.php/terminkalender/wesensbeurteilung-9
DESCRIPTION:Beurteiler Heß
X-ALT-DESC;FMTTYPE=text/html:<p>Beurteiler Heß</p>
LAST-MODIFIED:20231118T092845Z
SEQUENCE:378
LOCATION:
GEO:52.25053100;8.69291500
X-LOCATION-DISPLAYNAME:OG Hüllhorst
X-ACCESS:1
X-HITS:1100
X-COLOR:38f209
X-IMAGE-INTRO:https://svlg07.de/images/Veranstaltungen/Wesensb2.jpg
X-SHOW-END-TIME:0
END:VEVENT
BEGIN:VEVENT
DTSTART;VALUE=DATE:20240210
DTEND;VALUE=DATE:20240212
UID:AC8A06E7-BE11-4D08-99B5-96BAE22192C2
SUMMARY:Wesensbeurteilung
CREATED:20231118T092832Z
DTSTAMP:20231118T092832Z
URL:https://svlg07.de/index.php/terminkalender/wesensbeurteilung-10
DESCRIPTION:Beurteiler Heß
X-ALT-DESC;FMTTYPE=text/html:<p>Beurteiler Heß</p>
LAST-MODIFIED:20231208T145815Z
SEQUENCE:1747783
LOCATION:
GEO:51.93510000;8.40749500
X-LOCATION-DISPLAYNAME:OG Gütersloh-Nord
X-ACCESS:1
X-HITS:1436
X-COLOR:38f209
X-IMAGE-INTRO:https://svlg07.de/images/Veranstaltungen/WB.png
X-SHOW-END-TIME:0
END:VEVENT
BEGIN:VEVENT
DTSTART;VALUE=DATE:20240309
DTEND;VALUE=DATE:20240310
UID:310304D7-43F3-45FC-B341-B3ACB810A920
SUMMARY:Wesensbeurteilung
CREATED:20231118T092956Z
DTSTAMP:20231118T092956Z
URL:https://svlg07.de/index.php/terminkalender/wesensbeurteilung-11
DESCRIPTION:Beurteiler Holzkämper
X-ALT-DESC;FMTTYPE=text/html:<p>Beurteiler Holzkämper</p>
LAST-MODIFIED:20240124T174510Z
SEQUENCE:5818514
LOCATION:
GEO:51.86397500;8.52874400
X-LOCATION-DISPLAYNAME:OG Verl
X-ACCESS:1
X-HITS:1543
X-COLOR:38f209
X-IMAGE-INTRO:https://svlg07.de/images/Veranstaltungen/Wesensb4.jpg
X-SHOW-END-TIME:0
END:VEVENT
BEGIN:VEVENT
DTSTART;VALUE=DATE:20240413
DTEND;VALUE=DATE:20240414
UID:998289F1-57F7-487F-AA03-4E6939861B8B
SUMMARY:Wesensbeurteilung
CREATED:20231118T093110Z
DTSTAMP:20231118T093110Z
URL:https://svlg07.de/index.php/terminkalender/wesensbeurteilung-12
DESCRIPTION:Beurteiler Große-Wietfeld
X-ALT-DESC;FMTTYPE=text/html:<p>Beurteiler Große-Wietfeld</p>
LAST-MODIFIED:20240323T091053Z
SEQUENCE:10885183
LOCATION:
GEO:52.36908900;8.63193400
X-LOCATION-DISPLAYNAME:OG Espelkamp
X-ACCESS:1
X-HITS:1862
X-COLOR:38f209
X-IMAGE-INTRO:https://svlg07.de/images/Veranstaltungen/WB7.jpg
X-SHOW-END-TIME:0
END:VEVENT
BEGIN:VEVENT
DTSTART;VALUE=DATE:20240511
DTEND;VALUE=DATE:20240512
UID:08369931-DC64-4ACB-A185-0F651E9DE961
SUMMARY:Wesensbeurteilung
CREATED:20231118T125352Z
DTSTAMP:20231118T125352Z
URL:https://svlg07.de/index.php/terminkalender/wesensbeurteilung-13
DESCRIPTION:Beurteiler Große-Wietfeld
X-ALT-DESC;FMTTYPE=text/html:<p>Beurteiler Große-Wietfeld</p>
LAST-MODIFIED:20240426T135234Z
SEQUENCE:13827522
LOCATION:
GEO:51.96265900;8.89565500
X-LOCATION-DISPLAYNAME:OG Detmold-Nord
X-ACCESS:1
X-HITS:1467
X-COLOR:38f209
X-IMAGE-INTRO:https://svlg07.de/images/Veranstaltungen/Wesensb.jpg
X-SHOW-END-TIME:0
END:VEVENT
BEGIN:VEVENT
DTSTART;VALUE=DATE:20240609
DTEND;VALUE=DATE:20240610
UID:B3556FF7-5B6C-4AB7-B176-29B963AB7117
SUMMARY:Wesensbeurteilung
CREATED:20231118T125436Z
DTSTAMP:20231118T125436Z
URL:https://svlg07.de/index.php/terminkalender/wesensbeurteilung-14
DESCRIPTION:Beurteiler Wolters
X-ALT-DESC;FMTTYPE=text/html:<p>Beurteiler Wolters</p>
LAST-MODIFIED:20240515T091606Z
SEQUENCE:15452490
LOCATION:
GEO:51.83639500;8.27145900
X-LOCATION-DISPLAYNAME:OG Rheda
X-ACCESS:1
X-HITS:1816
X-COLOR:38f209
X-IMAGE-INTRO:https://svlg07.de/images/Veranstaltungen/WB06.jpg
X-SHOW-END-TIME:0
END:VEVENT
BEGIN:VEVENT
DTSTART;VALUE=DATE:20240713
DTEND;VALUE=DATE:20240714
UID:C4526F40-D353-4752-A273-9E98791EAAA4
SUMMARY:Wesensbeurteilung
CREATED:20231118T125523Z
DTSTAMP:20231118T125523Z
URL:https://svlg07.de/index.php/terminkalender/wesensbeurteilung-15
DESCRIPTION:Beurteiler Dexel
X-ALT-DESC;FMTTYPE=text/html:<p>Beurteiler Dexel</p>
LAST-MODIFIED:20240701T154145Z
SEQUENCE:19536382
LOCATION:
GEO:51.96250600;8.33546000
X-LOCATION-DISPLAYNAME:OG Holtkamp
X-ACCESS:1
X-HITS:1864
X-COLOR:38f209
X-IMAGE-INTRO:https://svlg07.de/images/Veranstaltungen/WB8.jpg
X-SHOW-END-TIME:0
END:VEVENT
BEGIN:VEVENT
DTSTART;VALUE=DATE:20240721
DTEND;VALUE=DATE:20240722
UID:B9BB1635-75C0-4448-ACB3-13C8D66C7254
SUMMARY:Wesensbeurteilung
CREATED:20231118T125523Z
DTSTAMP:20231118T125523Z
URL:https://svlg07.de/index.php/terminkalender/wesensbeurteilung-20
DESCRIPTION:Beurteiler Heß
X-ALT-DESC;FMTTYPE=text/html:<p>Beurteiler Heß</p>
LAST-MODIFIED:20240707T133640Z
SEQUENCE:20047277
LOCATION:
GEO:51.83303700;8.34740900
X-LOCATION-DISPLAYNAME:OG Wiedenbrück
X-ACCESS:1
X-HITS:628
X-COLOR:38f209
X-IMAGE-INTRO:https://svlg07.de/images/Veranstaltungen/Wesensb2.jpg
X-SHOW-END-TIME:0
END:VEVENT
BEGIN:VEVENT
DTSTART;VALUE=DATE:20240817
DTEND;VALUE=DATE:20240818
UID:14CE49D8-5AF7-480C-9E9F-269DC72EE8C8
SUMMARY:Wesensbeurteilung
CREATED:20231118T125738Z
DTSTAMP:20231118T125738Z
URL:https://svlg07.de/index.php/terminkalender/wesensbeurteilung-16
DESCRIPTION:Beurteiler Holzkämper
X-ALT-DESC;FMTTYPE=text/html:<p>Beurteiler Holzkämper</p>
LAST-MODIFIED:20240624T091529Z
SEQUENCE:18908271
LOCATION:
GEO:52.14832200;8.88203400
X-LOCATION-DISPLAYNAME:OG Vlotho
X-ACCESS:1
X-HITS:1096
X-COLOR:38f209
X-IMAGE-INTRO:https://svlg07.de/images/Veranstaltungen/WB06.jpg
X-SHOW-END-TIME:0
END:VEVENT
BEGIN:VEVENT
DTSTART;VALUE=DATE:20241012
DTEND;VALUE=DATE:20241013
UID:FAF8975B-FEFD-45CC-8CCB-2FD23E55EEEB
SUMMARY:Wesensbeurteilung
CREATED:20231118T130023Z
DTSTAMP:20231118T130023Z
URL:https://svlg07.de/index.php/terminkalender/wesensbeurteilung-17
DESCRIPTION:Beurteiler Dexel
X-ALT-DESC;FMTTYPE=text/html:<p>Beurteiler Dexel</p>
LAST-MODIFIED:20240819T073525Z
SEQUENCE:23740502
LOCATION:
GEO:51.68474200;8.37102600
X-LOCATION-DISPLAYNAME:OG Lippstadt
X-ACCESS:1
X-HITS:1140
X-COLOR:38f209
X-IMAGE-INTRO:https://svlg07.de/images/Veranstaltungen/Wesensb4.jpg
X-SHOW-END-TIME:0
END:VEVENT
BEGIN:VEVENT
DTSTART;VALUE=DATE:20241109
DTEND;VALUE=DATE:20241110
UID:EB4AFE79-ADAB-47C3-A1A3-F7F717EA7A52
SUMMARY:Wesensbeurteilung
CREATED:20231118T130052Z
DTSTAMP:20231118T130052Z
URL:https://svlg07.de/index.php/terminkalender/wesensbeurteilung-18
DESCRIPTION:Beurteiler Heß
X-ALT-DESC;FMTTYPE=text/html:<p>Beurteiler Heß</p>
LAST-MODIFIED:20240812T081644Z
SEQUENCE:23138152
LOCATION:
GEO:52.00420200;8.79612900
X-LOCATION-DISPLAYNAME:OG Lage/Lippe
X-ACCESS:1
X-HITS:1141
X-COLOR:38f209
X-IMAGE-INTRO:https://svlg07.de/images/Veranstaltungen/WB7.jpg
X-SHOW-END-TIME:0
END:VEVENT
BEGIN:VEVENT
DTSTART;VALUE=DATE:20241207
DTEND;VALUE=DATE:20241208
UID:80F1E7BC-FAAE-490E-8D26-B1CC087A238D
SUMMARY:Wesensbeurteilung
CREATED:20231118T130146Z
DTSTAMP:20231118T130146Z
URL:https://svlg07.de/index.php/terminkalender/wesensbeurteilung-19
DESCRIPTION:Beurteiler Holzkämper
X-ALT-DESC;FMTTYPE=text/html:<p>Beurteiler Holzkämper</p>
LAST-MODIFIED:20240624T091820Z
SEQUENCE:18908194
LOCATION:
GEO:52.00772500;8.60510000
X-LOCATION-DISPLAYNAME:OG Heepen-Oldentrup
X-ACCESS:1
X-HITS:1015
X-COLOR:38f209
X-IMAGE-INTRO:https://svlg07.de/images/Veranstaltungen/WB04.jpg
X-SHOW-END-TIME:0
END:VEVENT
BEGIN:VEVENT
DTSTART;VALUE=DATE:20250118
DTEND;VALUE=DATE:20250119
UID:8FCC7CDA-2131-46D0-B581-3D3E981C7532
SUMMARY:Wesensbeurteilung
CREATED:20241026T073930Z
DTSTAMP:20241026T073930Z
URL:https://svlg07.de/index.php/terminkalender/wesensbeurteilung-21
LAST-MODIFIED:20241026T073930Z
SEQUENCE:0
LOCATION:
GEO:51.73660400;8.27234400
X-LOCATION-DISPLAYNAME:OG Wadersloh
X-ACCESS:1
X-HITS:729
X-COLOR:38f209
X-IMAGE-INTRO:https://svlg07.de/images/Veranstaltungen/Wesensb2.jpg
X-SHOW-END-TIME:0
END:VEVENT
BEGIN:VEVENT
DTSTART;VALUE=DATE:20250222
DTEND;VALUE=DATE:20250223
UID:A7B96DA8-DFED-4CBF-905C-9602468954B1
SUMMARY:Wesensbeurteilung
CREATED:20241026T074103Z
DTSTAMP:20241026T074103Z
URL:https://svlg07.de/index.php/terminkalender/wesensbeurteilung-22
LAST-MODIFIED:20241026T074103Z
SEQUENCE:0
LOCATION:
GEO:51.93510000;8.40749500
X-LOCATION-DISPLAYNAME:OG Gütersloh-Nord
X-ACCESS:1
X-HITS:836
X-COLOR:38f209
X-IMAGE-INTRO:https://svlg07.de/images/Veranstaltungen/WB8.jpg
X-SHOW-END-TIME:0
END:VEVENT
BEGIN:VEVENT
DTSTART;VALUE=DATE:20250308
DTEND;VALUE=DATE:20250309
UID:9622164C-DEC8-44E6-931D-5440366595EB
SUMMARY:Wesensbeurteilung
CREATED:20241026T074152Z
DTSTAMP:20241026T074152Z
URL:https://svlg07.de/index.php/terminkalender/wesensbeurteilung-23
LAST-MODIFIED:20241026T074152Z
SEQUENCE:0
LOCATION:
GEO:52.17592300;8.61422100
X-LOCATION-DISPLAYNAME:OG Doberg-Hiddenhausen
X-ACCESS:1
X-HITS:975
X-COLOR:38f209
X-IMAGE-INTRO:https://svlg07.de/images/Veranstaltungen/Wesensb3.jpg
X-SHOW-END-TIME:0
END:VEVENT
BEGIN:VEVENT
DTSTART;VALUE=DATE:20250510
DTEND;VALUE=DATE:20250511
UID:DBDB1F66-DB39-4B7D-B56A-A3DB485F7B94
SUMMARY:Wesensbeurteilung
CREATED:20241026T074935Z
DTSTAMP:20241026T074935Z
URL:https://svlg07.de/index.php/terminkalender/wesensbeurteilung-24
LAST-MODIFIED:20250224T091538Z
SEQUENCE:10459563
LOCATION:
GEO:52.29750400;8.93602200
X-LOCATION-DISPLAYNAME:OG Minden
X-ACCESS:1
X-HITS:815
X-COLOR:38f209
X-IMAGE-INTRO:https://svlg07.de/images/Veranstaltungen/WB7.jpg
X-SHOW-END-TIME:0
END:VEVENT
BEGIN:VEVENT
DTSTART;VALUE=DATE:20250614
DTEND;VALUE=DATE:20250615
UID:D8FFDDA3-255C-4150-88F5-AD02F590D0AC
SUMMARY:Wesensbeurteilung
CREATED:20241026T075229Z
DTSTAMP:20241026T075229Z
URL:https://svlg07.de/index.php/terminkalender/wesensbeurteilung-25
LAST-MODIFIED:20250224T092312Z
SEQUENCE:10459843
LOCATION:
GEO:52.11118400;8.91832000
X-LOCATION-DISPLAYNAME:OG Kalletal
X-ACCESS:1
X-HITS:780
X-COLOR:38f209
X-IMAGE-INTRO:https://svlg07.de/images/Veranstaltungen/WB04.jpg
X-SHOW-END-TIME:0
END:VEVENT
BEGIN:VEVENT
DTSTART;VALUE=DATE:20250712
DTEND;VALUE=DATE:20250713
UID:214FBF4C-B0A2-4767-8200-85D9A831280B
SUMMARY:Wesensbeurteilung
CREATED:20241026T075551Z
DTSTAMP:20241026T075551Z
URL:https://svlg07.de/index.php/terminkalender/wesensbeurteilung-26
LAST-MODIFIED:20250224T092733Z
SEQUENCE:10459902
LOCATION:
GEO:51.83303700;8.34740900
X-LOCATION-DISPLAYNAME:OG Wiedenbrück
X-ACCESS:1
X-HITS:841
X-COLOR:38f209
X-IMAGE-INTRO:https://svlg07.de/images/Veranstaltungen/WB8.jpg
X-SHOW-END-TIME:0
END:VEVENT
BEGIN:VEVENT
DTSTART;VALUE=DATE:20250809
DTEND;VALUE=DATE:20250810
UID:72ADFA92-D640-49F9-B4A1-1249BFDE0439
SUMMARY:Wesensbeurteilung
CREATED:20241026T075705Z
DTSTAMP:20241026T075705Z
URL:https://svlg07.de/index.php/terminkalender/wesensbeurteilung-27
LAST-MODIFIED:20250521T140114Z
SEQUENCE:17906649
LOCATION:
GEO:51.83639500;8.27145900
X-LOCATION-DISPLAYNAME:OG Rheda
X-ACCESS:1
X-HITS:769
X-COLOR:38f209
X-IMAGE-INTRO:https://svlg07.de/images/Veranstaltungen/Wesensb.jpg
X-SHOW-END-TIME:0
END:VEVENT
BEGIN:VEVENT
DTSTART;VALUE=DATE:20250920
DTEND;VALUE=DATE:20250921
UID:CF6E9361-0E79-48CF-954C-B7BC3B457C27
SUMMARY:Wesensbeurteilung
CREATED:20241026T075901Z
DTSTAMP:20241026T075901Z
URL:https://svlg07.de/index.php/terminkalender/wesensbeurteilung-28
LAST-MODIFIED:20250630T074855Z
SEQUENCE:21340194
LOCATION:
GEO:51.96265900;8.89565500
X-LOCATION-DISPLAYNAME:OG Detmold-Nord
X-ACCESS:1
X-HITS:723
X-COLOR:38f209
X-IMAGE-INTRO:https://svlg07.de/images/Veranstaltungen/WB06.jpg
X-SHOW-END-TIME:0
END:VEVENT
BEGIN:VEVENT
DTSTART;VALUE=DATE:20251011
DTEND;VALUE=DATE:20251012
UID:E10298C0-07E9-4B58-9944-BD92E0065D05
SUMMARY:Wesensbeurteilung
CREATED:20241026T080010Z
DTSTAMP:20241026T080010Z
URL:https://svlg07.de/index.php/terminkalender/wesensbeurteilung-29
LAST-MODIFIED:20250911T125934Z
SEQUENCE:27665964
LOCATION:
GEO:52.18882600;8.74848700
X-LOCATION-DISPLAYNAME:OG Löhne
X-ACCESS:1
X-HITS:774
X-COLOR:38f209
X-IMAGE-INTRO:https://svlg07.de/images/Veranstaltungen/Wesensb2.jpg
X-SHOW-END-TIME:0
END:VEVENT
BEGIN:VEVENT
DTSTART;VALUE=DATE:20251101
DTEND;VALUE=DATE:20251102
UID:D62B0B54-FA3B-446E-8CA0-E94CCA4AE721
SUMMARY:Wesensbeurteilung
CREATED:20241026T080122Z
DTSTAMP:20241026T080122Z
URL:https://svlg07.de/index.php/terminkalender/wesensbeurteilung-30
LAST-MODIFIED:20250911T125910Z
SEQUENCE:27665868
LOCATION:
GEO:51.97046200;8.24474200
X-LOCATION-DISPLAYNAME:OG Harsewinkel
X-ACCESS:1
X-HITS:807
X-COLOR:38f209
X-IMAGE-INTRO:https://svlg07.de/images/Veranstaltungen/WB8.jpg
X-SHOW-END-TIME:0
END:VEVENT
BEGIN:VEVENT
DTSTART;VALUE=DATE:20260110
DTEND;VALUE=DATE:20260111
UID:E8E2176C-C7B8-4C3D-9BFD-B8891EBFF3B8
SUMMARY:Wesensbeurteilung
CREATED:20251123T161130Z
DTSTAMP:20251123T161130Z
URL:https://svlg07.de/index.php/terminkalender/wesensbeurteilung-32
LAST-MODIFIED:20251211T170442Z
SEQUENCE:1558392
LOCATION:
GEO:51.68474200;8.37102600
X-LOCATION-DISPLAYNAME:OG Lippstadt
X-ACCESS:1
X-HITS:351
X-COLOR:38f209
X-IMAGE-INTRO:https://svlg07.de/images/Veranstaltungen/WB.png
X-SHOW-END-TIME:0
END:VEVENT
BEGIN:VEVENT
DTSTART;VALUE=DATE:20260214
DTEND;VALUE=DATE:20260215
UID:E5DFA401-F2C9-400E-B610-5BACBB56A4C0
SUMMARY:Wesensbeurteilung
CREATED:20251123T161130Z
DTSTAMP:20251123T161130Z
URL:https://svlg07.de/index.php/terminkalender/wesensbeurteilung-40
LAST-MODIFIED:20251211T170359Z
SEQUENCE:1558349
LOCATION:
GEO:51.73660400;8.27234400
X-LOCATION-DISPLAYNAME:OG Wadersloh
X-ACCESS:1
X-HITS:393
X-COLOR:38f209
X-IMAGE-INTRO:https://svlg07.de/images/Veranstaltungen/WB.png
X-SHOW-END-TIME:0
END:VEVENT
BEGIN:VEVENT
DTSTART;VALUE=DATE:20260307
DTEND;VALUE=DATE:20260308
UID:D299FDF6-F377-43B1-B1BA-4D3F59CE6F0C
SUMMARY:Wesensbeurteilung
CREATED:20251123T161130Z
DTSTAMP:20251123T161130Z
URL:https://svlg07.de/index.php/terminkalender/wesensbeurteilung-33
LAST-MODIFIED:20251211T161149Z
SEQUENCE:1555219
LOCATION:
GEO:52.29750400;8.93602200
X-LOCATION-DISPLAYNAME:OG Minden
X-ACCESS:1
X-HITS:438
X-COLOR:38f209
X-IMAGE-INTRO:https://svlg07.de/images/Veranstaltungen/WB.png
X-SHOW-END-TIME:0
END:VEVENT
BEGIN:VEVENT
DTSTART;VALUE=DATE:20260425
DTEND;VALUE=DATE:20260426
UID:C1E9884D-B496-47FB-87B6-8A7421DB4BC1
SUMMARY:Wesensbeurteilung
CREATED:20251123T161130Z
DTSTAMP:20251123T161130Z
URL:https://svlg07.de/index.php/terminkalender/wesensbeurteilung-34
LAST-MODIFIED:20260222T161554Z
SEQUENCE:7862664
LOCATION:
GEO:51.96265900;8.89565500
X-LOCATION-DISPLAYNAME:OG Detmold-Nord
X-ACCESS:1
X-HITS:453
X-COLOR:38f209
X-IMAGE-INTRO:https://svlg07.de/images/Veranstaltungen/WB.png
X-SHOW-END-TIME:0
END:VEVENT
BEGIN:VEVENT
DTSTART;VALUE=DATE:20260517
DTEND;VALUE=DATE:20260518
UID:CA35F371-051F-4D2A-8ECB-0CE7B15441BA
SUMMARY:Wesensbeurteilung
CREATED:20251123T161130Z
DTSTAMP:20251123T161130Z
URL:https://svlg07.de/index.php/terminkalender/wesensbeurteilung-35
LAST-MODIFIED:20260407T110517Z
SEQUENCE:11645627
LOCATION:
GEO:52.01299300;8.62991600
X-LOCATION-DISPLAYNAME:OG Hillegossen
X-ACCESS:1
X-HITS:309
X-COLOR:38f209
X-IMAGE-INTRO:https://svlg07.de/images/Veranstaltungen/WB.png
X-SHOW-END-TIME:0
END:VEVENT
BEGIN:VEVENT
DTSTART;VALUE=DATE:20260613
DTEND;VALUE=DATE:20260614
UID:66490A00-8BA4-4122-A7BB-0CB0179B83E3
SUMMARY:Wesensbeurteilung
CREATED:20251123T161130Z
DTSTAMP:20251123T161130Z
URL:https://svlg07.de/index.php/terminkalender/wesensbeurteilung-36
LAST-MODIFIED:20251211T161517Z
SEQUENCE:1555427
LOCATION:
GEO:51.83303700;8.34740900
X-LOCATION-DISPLAYNAME:OG Wiedenbrück
X-ACCESS:1
X-HITS:137
X-COLOR:38f209
X-IMAGE-INTRO:https://svlg07.de/images/Veranstaltungen/WB.png
X-SHOW-END-TIME:0
END:VEVENT
BEGIN:VEVENT
DTSTART;VALUE=DATE:20260711
DTEND;VALUE=DATE:20260712
UID:1FD8448D-1C52-49FD-A44B-72BAA0F73EA5
SUMMARY:Wesensbeurteilung
CREATED:20251123T161130Z
DTSTAMP:20251123T161130Z
URL:https://svlg07.de/index.php/terminkalender/wesensbeurteilung-37
LAST-MODIFIED:20251211T161613Z
SEQUENCE:1555483
LOCATION:
GEO:51.97046200;8.24474200
X-LOCATION-DISPLAYNAME:OG Harsewinkel
X-ACCESS:1
X-HITS:172
X-COLOR:38f209
X-IMAGE-INTRO:https://svlg07.de/images/Veranstaltungen/WB.png
X-SHOW-END-TIME:0
END:VEVENT
BEGIN:VEVENT
DTSTART;VALUE=DATE:20260808
DTEND;VALUE=DATE:20260809
UID:8D238C00-02B1-428F-A634-5F78B2A5809F
SUMMARY:Wesensbeurteilung
CREATED:20251123T161130Z
DTSTAMP:20251123T161130Z
URL:https://svlg07.de/index.php/terminkalender/wesensbeurteilung-38
LAST-MODIFIED:20251211T161705Z
SEQUENCE:1555535
LOCATION:
GEO:51.86397500;8.52874400
X-LOCATION-DISPLAYNAME:OG Verl
X-ACCESS:1
X-HITS:217
X-COLOR:38f209
X-IMAGE-INTRO:https://svlg07.de/images/Veranstaltungen/WB.png
X-SHOW-END-TIME:0
END:VEVENT
BEGIN:VEVENT
DTSTART;VALUE=DATE:20261010
DTEND;VALUE=DATE:20261011
UID:125781AA-6951-4F64-B425-B487392B0745
SUMMARY:Wesensbeurteilung
CREATED:20251123T161130Z
DTSTAMP:20251123T161130Z
URL:https://svlg07.de/index.php/terminkalender/wesensbeurteilung-39
LAST-MODIFIED:20260407T110632Z
SEQUENCE:11645702
LOCATION:
GEO:51.93510000;8.40749500
X-LOCATION-DISPLAYNAME:OG Gütersloh-Nord
X-ACCESS:1
X-HITS:143
X-COLOR:38f209
X-IMAGE-INTRO:https://svlg07.de/images/Veranstaltungen/WB.png
X-SHOW-END-TIME:0
END:VEVENT
BEGIN:VEVENT
DTSTART;VALUE=DATE:20261107
DTEND;VALUE=DATE:20261108
UID:72F50E62-921D-4930-8860-09EDE505D277
SUMMARY:Wesensbeurteilung
CREATED:20251123T161130Z
DTSTAMP:20251123T161130Z
URL:https://svlg07.de/index.php/terminkalender/wesensbeurteilung-31
LAST-MODIFIED:20251214T105907Z
SEQUENCE:1795657
LOCATION:
GEO:52.00772500;8.60510000
X-LOCATION-DISPLAYNAME:OG Heepen-Oldentrup
X-ACCESS:1
X-HITS:406
X-COLOR:38f209
X-IMAGE-INTRO:https://svlg07.de/images/Veranstaltungen/WB.png
X-SHOW-END-TIME:0
END:VEVENT
END:VCALENDAR