BEGIN:VCALENDAR
VERSION:2.0
PRODID:DPCALENDAR
CALSCALE:GREGORIAN
BEGIN:VTIMEZONE
TZID:Europe/Berlin
X-MICROSOFT-CDO-TZID:4
BEGIN:STANDARD
DTSTART:20251026T010000
TZOFFSETFROM:+0200
TZOFFSETTO:+0100
TZNAME:CET
END:STANDARD
BEGIN:STANDARD
DTSTART:20261025T010000
TZOFFSETFROM:+0200
TZOFFSETTO:+0100
TZNAME:CET
END:STANDARD
BEGIN:DAYLIGHT
DTSTART:20260329T010000
TZOFFSETFROM:+0100
TZOFFSETTO:+0200
TZNAME:CEST
END:DAYLIGHT
END:VTIMEZONE
X-WR-TIMEZONE:Europe/Berlin
BEGIN:VEVENT
DTSTART;VALUE=DATE:20231103
DTEND;VALUE=DATE:20231106
UID:90150CCF-F225-4E2C-B9BA-2E92279DA6D5
SUMMARY:Landesmeisterschaft Spezialhunde
CREATED:20230925T142806Z
DTSTAMP:20230925T142806Z
URL:https://svlg07.de/index.php/terminkalender/landesmeisterschaft-spezialhunde
LOCATION:
GEO:51.96250600;8.33546000
X-LOCATION-DISPLAYNAME:OG Holtkamp
X-ACCESS:1
X-HITS:933
X-COLOR:d2f2cb
X-IMAGE-INTRO:https://svlg07.de/images/Sport/RHLMOWLWestfalen.jpg
X-SHOW-END-TIME:0
END:VEVENT
BEGIN:VEVENT
DTSTART;VALUE=DATE:20240217
DTEND;VALUE=DATE:20240219
UID:568F5796-AD6D-4DD3-AC1C-B34BFBEC599A
SUMMARY:Spürhundseminar
CREATED:20231128T161517Z
DTSTAMP:20231128T161517Z
URL:https://svlg07.de/index.php/terminkalender/spuerhundseminar
LAST-MODIFIED:20231228T180735Z
SEQUENCE:2598738
LOCATION:
GEO:51.77945300;8.59857600
X-LOCATION-DISPLAYNAME:OG Delbrück
X-ACCESS:1
X-HITS:1495
X-COLOR:d2f2cb
X-SHOW-END-TIME:0
END:VEVENT
END:VCALENDAR