BEGIN:VCALENDAR
VERSION:2.0
PRODID:DPCALENDAR
CALSCALE:GREGORIAN
BEGIN:VTIMEZONE
TZID:Europe/Berlin
X-MICROSOFT-CDO-TZID:4
BEGIN:STANDARD
DTSTART:20251026T010000
TZOFFSETFROM:+0200
TZOFFSETTO:+0100
TZNAME:CET
END:STANDARD
BEGIN:STANDARD
DTSTART:20261025T010000
TZOFFSETFROM:+0200
TZOFFSETTO:+0100
TZNAME:CET
END:STANDARD
BEGIN:DAYLIGHT
DTSTART:20260329T010000
TZOFFSETFROM:+0100
TZOFFSETTO:+0200
TZNAME:CEST
END:DAYLIGHT
END:VTIMEZONE
X-WR-TIMEZONE:Europe/Berlin
BEGIN:VEVENT
DTSTART;VALUE=DATE:20230506
DTEND;VALUE=DATE:20230507
UID:AB6E2461-5CCB-460D-895A-BFC0C6C260D2
SUMMARY:Körung
CREATED:20230411T074844Z
DTSTAMP:20230411T074844Z
URL:https://svlg07.de/index.php/terminkalender/koerung
DESCRIPTION:Körmeister Otto Körber-AhrensKörhelfer Dominik Zerning
X-ALT-DESC;FMTTYPE=text/html:<p>Körmeister Otto Körber-Ahrens<br />Körhelfer Dominik Zerning</p>
LAST-MODIFIED:20230504T080048Z
SEQUENCE:1987924
LOCATION:
GEO:52.29750400;8.93602200
X-LOCATION-DISPLAYNAME:OG Minden
X-ACCESS:1
X-HITS:23
X-COLOR:000000
X-SHOW-END-TIME:0
END:VEVENT
BEGIN:VEVENT
DTSTART;VALUE=DATE:20230608
DTEND;VALUE=DATE:20230609
UID:AC3A5818-E49A-4A4C-A268-668BEF4B8D41
SUMMARY:OG-Zuchtschau
CREATED:20230411T075321Z
DTSTAMP:20230411T075321Z
URL:https://svlg07.de/index.php/terminkalender/og-zuchtschau
DESCRIPTION:Zuchtrichter: Norbert Wettlaufer, Wolfgang Haßgall
X-ALT-DESC;FMTTYPE=text/html:<p>Zuchtrichter:&nbsp;Norbert Wettlaufer, Wolfgang Haßgall</p>
LAST-MODIFIED:20230527T084844Z
SEQUENCE:3977723
LOCATION:
GEO:52.01299300;8.62991600
X-LOCATION-DISPLAYNAME:OG Hillegossen
X-ACCESS:1
X-HITS:590
X-COLOR:000000
X-IMAGE-INTRO:https://svlg07.de/images/Veranstaltungen/Kalletal_3.jpg
X-SHOW-END-TIME:0
END:VEVENT
BEGIN:VEVENT
DTSTART;VALUE=DATE:20230702
DTEND;VALUE=DATE:20230703
UID:CD9B4555-3DC7-489A-80CE-8658E7673F53
SUMMARY:LG-Zuchtschau
CREATED:20230411T075447Z
DTSTAMP:20230411T075447Z
URL:https://svlg07.de/index.php/terminkalender/lg-zuchtschau
DESCRIPTION:Richter: Harald Hohmann, Thomas Teubert, Jochen Prall, Wolfgang Haßgall
X-ALT-DESC;FMTTYPE=text/html:<p>Richter: Harald Hohmann, Thomas Teubert, Jochen Prall, Wolfgang Haßgall</p>
LAST-MODIFIED:20230527T085229Z
SEQUENCE:3977862
LOCATION:
GEO:52.36908900;8.63193400
X-LOCATION-DISPLAYNAME:OG Espelkamp
X-ACCESS:1
X-HITS:1151
X-COLOR:000000
X-IMAGE-INTRO:https://svlg07.de/images/Veranstaltungen/IMG-20190426-.jpg
X-SHOW-END-TIME:0
END:VEVENT
BEGIN:VEVENT
DTSTART;VALUE=DATE:20240303
DTEND;VALUE=DATE:20240304
UID:8EEA902D-AFBA-403A-B9F6-0312114F7CD6
SUMMARY:OG-Zuchtschau
CREATED:20240111T154050Z
DTSTAMP:20240111T154050Z
URL:https://svlg07.de/index.php/terminkalender/og-zuchtschau-3
DESCRIPTION:Richter D.Thoring, N.Meßler
X-ALT-DESC;FMTTYPE=text/html:<p>Richter D.Thoring, N.Meßler</p>
LOCATION:
GEO:51.91754200;8.32380400
X-LOCATION-DISPLAYNAME:OG Gütersloh
X-ACCESS:1
X-HITS:1362
X-COLOR:000000
X-SHOW-END-TIME:0
END:VEVENT
BEGIN:VEVENT
DTSTART;VALUE=DATE:20240707
DTEND;VALUE=DATE:20240708
UID:A62E6C2C-301F-48BE-9C79-28B78B7BA089
SUMMARY:LG-Zuchtschau
CREATED:20240214T130723Z
DTSTAMP:20240214T130723Z
URL:https://svlg07.de/index.php/terminkalender/lg-zuchtschau-2
LAST-MODIFIED:20240303T092054Z
SEQUENCE:1541611
LOCATION:
GEO:51.76379400;8.76121700
X-LOCATION-DISPLAYNAME:OG Schloß Neuhaus
X-ACCESS:1
X-HITS:1891
X-COLOR:000000
X-IMAGE-INTRO:https://svlg07.de/images/Veranstaltungen/IMG-20190426-.jpg
X-SHOW-END-TIME:0
END:VEVENT
BEGIN:VEVENT
DTSTART;VALUE=DATE:20240720
DTEND;VALUE=DATE:20240721
UID:685FC6CB-EA03-44F7-AFAE-11AA12FB79B4
SUMMARY:OG-Zuchtschau
CREATED:20240103T151430Z
DTSTAMP:20240103T151430Z
URL:https://svlg07.de/index.php/terminkalender/og-zuchtschau-2
DESCRIPTION:Richter: Daniel Hanswillemenke (Rüden)Wolfgang Haßgall (Hündinnen)
X-ALT-DESC;FMTTYPE=text/html:<p>Richter: <br />Daniel Hanswillemenke (Rüden)<br />Wolfgang Haßgall (Hündinnen)<br /><br /></p>
LAST-MODIFIED:20240322T093318Z
SEQUENCE:6805128
LOCATION:
GEO:52.01299300;8.62991600
X-LOCATION-DISPLAYNAME:OG Hillegossen
X-ACCESS:1
X-HITS:1820
X-COLOR:000000
X-IMAGE-INTRO:https://svlg07.de/images/Veranstaltungen/Kalletal_3.jpg
X-SHOW-END-TIME:0
END:VEVENT
BEGIN:VEVENT
DTSTART;TZID=Europe/Berlin:20240831T170000
DTEND;TZID=Europe/Berlin:20240831T180000
UID:87733B8D-7996-4F01-9970-F04404EDD902
SUMMARY:OG-Zuchtschau
CREATED:20240817T082157Z
DTSTAMP:20240817T082157Z
URL:https://svlg07.de/index.php/terminkalender/og-zuchtschau-4
DESCRIPTION:Rüden: Daniel HanswillemenkeHündinnen: Daniela Thoring\N 
X-ALT-DESC;FMTTYPE=text/html:<p><a href="images/Zucht/OGZSPB24.JPG" class="jcepopup" data-mediabox="1">Rüden: Daniel Hanswillemenke<br />Hündinnen: Daniela Thoring</a></p><p>&nbsp;</p>
LAST-MODIFIED:20240817T082958Z
SEQUENCE:481
LOCATION:
GEO:51.72723800;8.80231400
X-LOCATION-DISPLAYNAME:OG Paderborn
X-ACCESS:1
X-HITS:461
X-COLOR:000000
X-IMAGE-INTRO:https://svlg07.de/images/Veranstaltungen/IMG-20190426-.jpg
X-SHOW-END-TIME:0
END:VEVENT
BEGIN:VEVENT
DTSTART;VALUE=DATE:20250628
DTEND;VALUE=DATE:20250629
UID:892EC9C3-A500-4ACC-A252-AFAFD9BBC330
SUMMARY:OG-Zuchtschau
CREATED:20241221T143107Z
DTSTAMP:20241221T143107Z
URL:https://svlg07.de/index.php/terminkalender/og-zuchtschau-6
DESCRIPTION:Richter: Daniel Hanswillemenke (alle Rüden)\N              Wolfgang Haßgall (alle Hündinnen)
X-ALT-DESC;FMTTYPE=text/html:<p>Richter: Daniel Hanswillemenke (alle Rüden)</p><p>&nbsp; &nbsp; &nbsp; &nbsp; &nbsp; &nbsp; &nbsp; Wolfgang Haßgall (alle Hündinnen)</p>
LAST-MODIFIED:20250224T092605Z
SEQUENCE:5597698
LOCATION:
GEO:52.01299300;8.62991600
X-LOCATION-DISPLAYNAME:OG Hillegossen
X-ACCESS:1
X-HITS:1072
X-COLOR:000000
X-IMAGE-INTRO:https://svlg07.de/images/Veranstaltungen/Kalletal_3.jpg
X-SHOW-END-TIME:0
END:VEVENT
BEGIN:VEVENT
DTSTART;VALUE=DATE:20260301
DTEND;VALUE=DATE:20260302
UID:26DE8C61-D074-438E-9FEB-281B85391CC4
SUMMARY:OG-Zuchtschau
CREATED:20260114T153205Z
DTSTAMP:20260114T153205Z
URL:https://svlg07.de/index.php/terminkalender/og-zuchtschau-8
DESCRIPTION:Richter R: Horst JansenRichter H: Daniela Thoring
X-ALT-DESC;FMTTYPE=text/html:<p>Richter R: Horst Jansen<br />Richter H: Daniela Thoring</p>
LAST-MODIFIED:20260228T162221Z
SEQUENCE:3891016
LOCATION:
GEO:51.91754200;8.32380400
X-LOCATION-DISPLAYNAME:OG Gütersloh
X-ACCESS:1
X-HITS:363
X-COLOR:000000
X-IMAGE-INTRO:https://svlg07.de/images/Veranstaltungen/IMG-20190426-.jpg
X-SHOW-END-TIME:0
END:VEVENT
BEGIN:VEVENT
DTSTART;VALUE=DATE:20260509
DTEND;VALUE=DATE:20260510
UID:06459A17-5F90-448D-A33A-4B4B5E889BBD
SUMMARY:LG-Zuchtschau für Jugendliche
CREATED:20251123T161750Z
DTSTAMP:20251123T161750Z
URL:https://svlg07.de/index.php/terminkalender/lg-zuchtschau-fuer-jugendliche
LAST-MODIFIED:20251123T162351Z
SEQUENCE:361
LOCATION:
GEO:51.86397500;8.52874400
X-LOCATION-DISPLAYNAME:OG Verl
X-ACCESS:1
X-HITS:543
X-COLOR:000000
X-IMAGE-INTRO:https://svlg07.de/images/Jugend/IMG_2792kl.jpg
X-SHOW-END-TIME:0
END:VEVENT
BEGIN:VEVENT
DTSTART;VALUE=DATE:20260604
DTEND;VALUE=DATE:20260605
UID:76198469-18B5-4515-B3C5-100E65B3EEAF
SUMMARY:OG-Zuchtschau
CREATED:20251123T161528Z
DTSTAMP:20251123T161528Z
URL:https://svlg07.de/index.php/terminkalender/og-zuchtschau-7
LAST-MODIFIED:20251123T161528Z
SEQUENCE:0
LOCATION:
GEO:52.01299300;8.62991600
X-LOCATION-DISPLAYNAME:OG Hillegossen
X-ACCESS:1
X-HITS:438
X-COLOR:000000
X-IMAGE-INTRO:https://svlg07.de/images/Veranstaltungen/IMG-20190426-.jpg
X-SHOW-END-TIME:0
END:VEVENT
END:VCALENDAR