BEGIN:VCALENDAR
VERSION:2.0
PRODID:DPCALENDAR
CALSCALE:GREGORIAN
BEGIN:VTIMEZONE
TZID:Europe/Berlin
X-MICROSOFT-CDO-TZID:4
BEGIN:STANDARD
DTSTART:20251026T010000
TZOFFSETFROM:+0200
TZOFFSETTO:+0100
TZNAME:CET
END:STANDARD
BEGIN:STANDARD
DTSTART:20261025T010000
TZOFFSETFROM:+0200
TZOFFSETTO:+0100
TZNAME:CET
END:STANDARD
BEGIN:DAYLIGHT
DTSTART:20260329T010000
TZOFFSETFROM:+0100
TZOFFSETTO:+0200
TZNAME:CEST
END:DAYLIGHT
END:VTIMEZONE
X-WR-TIMEZONE:Europe/Berlin
BEGIN:VEVENT
DTSTART;TZID=Europe/Berlin:20230625T150000
DTEND;TZID=Europe/Berlin:20230625T160000
UID:06AE8833-A981-4496-8C48-E27793FE73FC
SUMMARY:Tag der Ehrungen
CREATED:20230414T120626Z
DTSTAMP:20230414T120626Z
URL:https://svlg07.de/index.php/terminkalender/tag-der-ehrungen
LAST-MODIFIED:20230620T120740Z
SEQUENCE:5788874
LOCATION:
GEO:51.68474200;8.37102600
X-LOCATION-DISPLAYNAME:OG Lippstadt
X-ACCESS:1
X-HITS:775
X-COLOR:fc0824
X-IMAGE-INTRO:https://svlg07.de/images/Veranstaltungen/Ehrung.jpg
X-SHOW-END-TIME:0
END:VEVENT
BEGIN:VEVENT
DTSTART;TZID=Europe/Berlin:20230923T093000
DTEND;TZID=Europe/Berlin:20230923T150000
UID:2B448D4C-6F24-4860-85E0-43EB693EC573
SUMMARY:Helferschulung
CREATED:20230411T080925Z
DTSTAMP:20230411T080925Z
URL:https://svlg07.de/index.php/terminkalender/helferschulung
LAST-MODIFIED:20230714T114313Z
SEQUENCE:8134428
LOCATION:
GEO:52.17306700;9.00835900
X-LOCATION-DISPLAYNAME:OG Stemmen
X-ACCESS:1
X-HITS:929
X-COLOR:fc0824
X-IMAGE-INTRO:https://svlg07.de/images/Veranstaltungen/IMG_3240.JPG
X-SHOW-END-TIME:1
END:VEVENT
BEGIN:VEVENT
DTSTART;TZID=Europe/Berlin:20240224T090000
DTEND;TZID=Europe/Berlin:20240224T100000
UID:8D6678A4-BE10-4E60-8C94-8206815B7FDE
SUMMARY:LG-Fachwarte u. Delegiertentagung
CREATED:20231117T140056Z
DTSTAMP:20231117T140056Z
URL:https://svlg07.de/index.php/terminkalender/lg-fachwarte-u-delegiertentagung
LAST-MODIFIED:20231228T195426Z
SEQUENCE:3563610
LOCATION:
GEO:51.91180000;8.65817900
X-LOCATION-DISPLAYNAME:Stukenbrock Hotel zur Post
X-ACCESS:1
X-HITS:1292
X-COLOR:fc0824
X-SHOW-END-TIME:0
END:VEVENT
BEGIN:VEVENT
DTSTART;VALUE=DATE:20240810
DTEND;VALUE=DATE:20240812
UID:42C4A921-0C4C-4ADE-94F3-C08FBF33902F
SUMMARY:LGA 
CREATED:20240624T091258Z
DTSTAMP:20240624T091258Z
URL:https://svlg07.de/index.php/terminkalender/lga-3
DESCRIPTION:Richter: A.Kilian, L.Vortkamp, T.HolzkämperModdenbachtalstadion, Prozessionsweg 14, 33428 Harsewinkel
X-ALT-DESC;FMTTYPE=text/html:<p>Richter: A.Kilian, L.Vortkamp, T.Holzkämper<br />Moddenbachtalstadion, Prozessionsweg 14, 33428 Harsewinkel</p>
LAST-MODIFIED:20240624T091431Z
SEQUENCE:93
LOCATION:
GEO:51.97046200;8.24474200
X-LOCATION-DISPLAYNAME:OG Harsewinkel
X-ACCESS:1
X-HITS:1575
X-COLOR:fc0824
X-IMAGE-INTRO:https://svlg07.de/images/Veranstaltungen/IMG_3240.JPG
X-SHOW-END-TIME:0
END:VEVENT
BEGIN:VEVENT
DTSTART;VALUE=DATE:20250215
DTEND;VALUE=DATE:20250216
UID:1C6CF1C2-E08B-497E-8668-BBE58A76255F
SUMMARY:Fachwarte- und Delegiertentagung 
CREATED:20241011T142531Z
DTSTAMP:20241011T142531Z
URL:https://svlg07.de/index.php/terminkalender/fachwarte-und-delegiertentagung
LAST-MODIFIED:20241011T142531Z
SEQUENCE:0
LOCATION:
GEO:51.91180000;8.65817900
X-LOCATION-DISPLAYNAME:Stukenbrock Hotel zur Post
X-ACCESS:1
X-HITS:1161
X-COLOR:fc0824
X-SHOW-END-TIME:0
END:VEVENT
BEGIN:VEVENT
DTSTART;TZID=Europe/Berlin:20250310T190000
DTEND;TZID=Europe/Berlin:20250310T200000
UID:195785ED-520D-43C9-9ECD-B8C3698C602F
SUMMARY:LG-Infoabend Neue PO
CREATED:20250224T092950Z
DTSTAMP:20250224T092950Z
URL:https://svlg07.de/index.php/terminkalender/lg-infoabend-neue-po
DESCRIPTION:Bitte beim LG-Ausbildungswart anmelden!
X-ALT-DESC;FMTTYPE=text/html:<p>Bitte beim LG-Ausbildungswart anmelden!</p>
LAST-MODIFIED:20250224T093030Z
SEQUENCE:40
X-ACCESS:1
X-HITS:580
X-COLOR:fc0824
X-SHOW-END-TIME:0
END:VEVENT
BEGIN:VEVENT
DTSTART;VALUE=DATE:20250405
DTEND;VALUE=DATE:20250407
UID:FFFABE01-4E5A-47A4-BC65-D4CB35BA8A0E
SUMMARY:LG-FCI-Qualifikation
CREATED:20241026T074437Z
DTSTAMP:20241026T074437Z
URL:https://svlg07.de/index.php/terminkalender/lg-fci-qualifikation-3
DESCRIPTION:OG-Gelände BeckumA: K.DeisenrothB: T.HolzkämperC: G.Dexel
X-ALT-DESC;FMTTYPE=text/html:<p>OG-Gelände Beckum<br />A: K.Deisenroth<br />B: T.Holzkämper<br />C: G.Dexel</p>
LAST-MODIFIED:20250224T093408Z
SEQUENCE:10460971
LOCATION:
GEO:51.76828700;8.02812700
X-LOCATION-DISPLAYNAME:OG Beckum
X-ACCESS:1
X-HITS:1923
X-COLOR:fc0824
X-IMAGE-INTRO:https://svlg07.de/images/Veranstaltungen/IMG_8608_209.jpg
X-SHOW-END-TIME:0
END:VEVENT
BEGIN:VEVENT
DTSTART;VALUE=DATE:20250525
DTEND;VALUE=DATE:20250526
UID:D2CB9FFA-25BD-48C0-92E5-2EF067D0FC5A
SUMMARY:Ehrung langjährige Mitglieder
CREATED:20241026T075020Z
DTSTAMP:20241026T075020Z
URL:https://svlg07.de/index.php/terminkalender/ehrung-langjaehrige-mitglieder
LAST-MODIFIED:20241026T075020Z
SEQUENCE:0
LOCATION:
GEO:51.68474200;8.37102600
X-LOCATION-DISPLAYNAME:OG Lippstadt
X-ACCESS:1
X-HITS:838
X-COLOR:fc0824
X-SHOW-END-TIME:0
END:VEVENT
BEGIN:VEVENT
DTSTART;VALUE=DATE:20250720
DTEND;VALUE=DATE:20250721
UID:F77433FF-426D-4C10-B4C7-073C959D6CF2
SUMMARY:LG-Zuchtschau
CREATED:20241026T075753Z
DTSTAMP:20241026T075753Z
URL:https://svlg07.de/index.php/terminkalender/lg-zuchtschau-3
LAST-MODIFIED:20250224T092808Z
SEQUENCE:10459815
LOCATION:
GEO:51.79920800;8.81747500
X-LOCATION-DISPLAYNAME:OG Bad Lippspringe
X-ACCESS:1
X-HITS:692
X-COLOR:fc0824
X-IMAGE-INTRO:https://svlg07.de/images/Veranstaltungen/BSZS.jpg
X-SHOW-END-TIME:0
END:VEVENT
BEGIN:VEVENT
DTSTART;VALUE=DATE:20250802
DTEND;VALUE=DATE:20250804
UID:3427038C-2635-4903-9DF5-CCB4264B8B40
SUMMARY:LGA
CREATED:20241026T075826Z
DTSTAMP:20241026T075826Z
URL:https://svlg07.de/index.php/terminkalender/lga-4
DESCRIPTION:Waldstadion, Jahnstr.2b, 33442 Herzebrock-Clarholz
X-ALT-DESC;FMTTYPE=text/html:<p>Waldstadion, Jahnstr.2b, 33442 Herzebrock-Clarholz</p>
LAST-MODIFIED:20250630T074643Z
SEQUENCE:21340097
LOCATION:
GEO:51.98885300;8.19058500
X-LOCATION-DISPLAYNAME:OG Greffen
X-ACCESS:1
X-HITS:1247
X-COLOR:fc0824
X-IMAGE-INTRO:https://svlg07.de/images/Veranstaltungen/IMG_2489.jpg
X-SHOW-END-TIME:0
END:VEVENT
BEGIN:VEVENT
DTSTART;VALUE=DATE:20251005
DTEND;VALUE=DATE:20251006
UID:F1DA1803-ACFE-4157-A788-59FC3B019649
SUMMARY:LG-FH
CREATED:20241026T075920Z
DTSTAMP:20241026T075920Z
URL:https://svlg07.de/index.php/terminkalender/lg-fh-3
LAST-MODIFIED:20250911T125429Z
SEQUENCE:27665709
LOCATION:
GEO:51.68474200;8.37102600
X-LOCATION-DISPLAYNAME:OG Lippstadt
X-ACCESS:1
X-HITS:871
X-COLOR:fc0824
X-IMAGE-INTRO:https://svlg07.de/images/Veranstaltungen/Faehrte.png
X-SHOW-END-TIME:0
END:VEVENT
BEGIN:VEVENT
DTSTART;VALUE=DATE:20251115
DTEND;VALUE=DATE:20251116
UID:126F4728-8CB3-46F7-83A8-A2CF72CFDE8A
SUMMARY:Übungswarteschulung
CREATED:20241026T080210Z
DTSTAMP:20241026T080210Z
URL:https://svlg07.de/index.php/terminkalender/uebungswarteschulung-2
DESCRIPTION:Teil 1+2
X-ALT-DESC;FMTTYPE=text/html:<p>Teil 1+2</p>
LAST-MODIFIED:20241026T080210Z
SEQUENCE:0
LOCATION:
GEO:51.73660400;8.27234400
X-LOCATION-DISPLAYNAME:OG Wadersloh
X-ACCESS:1
X-HITS:940
X-COLOR:fc0824
X-SHOW-END-TIME:0
END:VEVENT
BEGIN:VEVENT
DTSTART;VALUE=DATE:20251116
DTEND;VALUE=DATE:20251117
UID:1CF0617E-B826-4BE6-AB7B-A9A97FB5F0D6
SUMMARY:Übungswarteschulung
CREATED:20241026T080243Z
DTSTAMP:20241026T080243Z
URL:https://svlg07.de/index.php/terminkalender/uebungswarteschulung-3
DESCRIPTION:Teil 4
X-ALT-DESC;FMTTYPE=text/html:<p>Teil 4</p>
LAST-MODIFIED:20241026T080243Z
SEQUENCE:0
LOCATION:
GEO:51.73660400;8.27234400
X-LOCATION-DISPLAYNAME:OG Wadersloh
X-ACCESS:1
X-HITS:649
X-COLOR:fc0824
X-SHOW-END-TIME:0
END:VEVENT
BEGIN:VEVENT
DTSTART;TZID=Europe/Berlin:20251122T100000
DTEND;TZID=Europe/Berlin:20251122T150000
UID:03E1843E-8407-4F28-ACBD-48E9832A2840
SUMMARY:Fachwarteschulung Zucht
CREATED:20251016T072652Z
DTSTAMP:20251016T072652Z
URL:https://svlg07.de/index.php/terminkalender/fachwarteschulung-zucht
LAST-MODIFIED:20251016T072751Z
SEQUENCE:59
LOCATION:
GEO:51.83303700;8.34740900
X-LOCATION-DISPLAYNAME:OG Wiedenbrück
X-ACCESS:1
X-HITS:366
X-COLOR:fc0824
X-SHOW-END-TIME:0
END:VEVENT
BEGIN:VEVENT
DTSTART;VALUE=DATE:20260221
DTEND;VALUE=DATE:20260222
UID:362D9801-60B9-490B-A39F-1B94CF122A3F
SUMMARY:Delegierten-/Fachwartetagung
CREATED:20251123T161228Z
DTSTAMP:20251123T161228Z
URL:https://svlg07.de/index.php/terminkalender/delegierten-fachwartetagung
LAST-MODIFIED:20251123T161228Z
SEQUENCE:0
LOCATION:
GEO:51.91180000;8.65817900
X-LOCATION-DISPLAYNAME:Stukenbrock Hotel zur Post
X-ACCESS:1
X-HITS:583
X-COLOR:fc0824
X-SHOW-END-TIME:0
END:VEVENT
BEGIN:VEVENT
DTSTART;VALUE=DATE:20260411
DTEND;VALUE=DATE:20260413
UID:DC99E72D-CC58-4A9C-9609-87134E7D217A
SUMMARY:LG-FCI-Qualifikation
CREATED:20241026T074437Z
DTSTAMP:20241026T074437Z
URL:https://svlg07.de/index.php/terminkalender/lg-fci-qualifikation-4
LAST-MODIFIED:20260114T153353Z
SEQUENCE:38476156
LOCATION:
GEO:52.36908900;8.63193400
X-LOCATION-DISPLAYNAME:OG Espelkamp
X-ACCESS:1
X-HITS:800
X-COLOR:fc0824
X-IMAGE-INTRO:https://svlg07.de/images/Veranstaltungen/IMG_8608_209.jpg
X-SHOW-END-TIME:0
END:VEVENT
BEGIN:VEVENT
DTSTART;VALUE=DATE:20260510
DTEND;VALUE=DATE:20260511
UID:F744CA86-0B65-4D78-883B-AFAC645AD553
SUMMARY:Ehrung langjähriger Mitglieder
CREATED:20251123T161410Z
DTSTAMP:20251123T161410Z
URL:https://svlg07.de/index.php/terminkalender/ehrung-langjaehriger-mitglieder
LAST-MODIFIED:20251123T161410Z
SEQUENCE:0
X-ACCESS:1
X-HITS:443
X-COLOR:fc0824
X-SHOW-END-TIME:0
END:VEVENT
BEGIN:VEVENT
DTSTART;VALUE=DATE:20260809
DTEND;VALUE=DATE:20260810
UID:3C25BFBA-4740-4502-B065-ED6292329F4A
SUMMARY:LG-Zuchtschau
CREATED:20251123T161929Z
DTSTAMP:20251123T161929Z
URL:https://svlg07.de/index.php/terminkalender/lg-zuchtschau-4
LAST-MODIFIED:20251123T161929Z
SEQUENCE:0
LOCATION:
GEO:51.72723800;8.80231400
X-LOCATION-DISPLAYNAME:OG Paderborn
X-ACCESS:1
X-HITS:315
X-COLOR:fc0824
X-SHOW-END-TIME:0
END:VEVENT
BEGIN:VEVENT
DTSTART;VALUE=DATE:20260815
DTEND;VALUE=DATE:20260817
UID:7E191B85-F822-40E1-AB68-69CA22ED56DB
SUMMARY:LGA
CREATED:20251123T162013Z
DTSTAMP:20251123T162013Z
URL:https://svlg07.de/index.php/terminkalender/lga-5
DESCRIPTION:noch nicht vergeben\NRichter:A: B: C: \NHelfer:
X-ALT-DESC;FMTTYPE=text/html:<p>noch nicht vergeben</p><p>Richter:<br />A:&nbsp;<br />B:&nbsp;<br />C:&nbsp;</p><p>Helfer:</p>
LAST-MODIFIED:20260106T211854Z
SEQUENCE:3819521
X-ACCESS:1
X-HITS:162
X-COLOR:fc0824
X-IMAGE-INTRO:https://svlg07.de/images/Veranstaltungen/IMG_2489.jpg
X-SHOW-END-TIME:0
END:VEVENT
BEGIN:VEVENT
DTSTART;VALUE=DATE:20261004
DTEND;VALUE=DATE:20261005
UID:FC1E950C-14CB-446D-91FF-1F9AA4652370
SUMMARY:LG-FH
CREATED:20241026T075920Z
DTSTAMP:20241026T075920Z
URL:https://svlg07.de/index.php/terminkalender/lg-fh-4
DESCRIPTION:noch nicht vergeben\NRichter:
X-ALT-DESC;FMTTYPE=text/html:<p>noch nicht vergeben</p><p>Richter:</p>
LAST-MODIFIED:20260106T211927Z
SEQUENCE:37804807
X-ACCESS:1
X-HITS:42
X-COLOR:fc0824
X-IMAGE-INTRO:https://svlg07.de/images/Veranstaltungen/Faehrte.png
X-SHOW-END-TIME:0
END:VEVENT
END:VCALENDAR