BEGIN:VCALENDAR
VERSION:2.0
PRODID:DPCALENDAR
CALSCALE:GREGORIAN
BEGIN:VTIMEZONE
TZID:Europe/Berlin
X-MICROSOFT-CDO-TZID:4
BEGIN:STANDARD
DTSTART:20251026T010000
TZOFFSETFROM:+0200
TZOFFSETTO:+0100
TZNAME:CET
END:STANDARD
BEGIN:STANDARD
DTSTART:20261025T010000
TZOFFSETFROM:+0200
TZOFFSETTO:+0100
TZNAME:CET
END:STANDARD
BEGIN:DAYLIGHT
DTSTART:20260329T010000
TZOFFSETFROM:+0100
TZOFFSETTO:+0200
TZNAME:CEST
END:DAYLIGHT
END:VTIMEZONE
X-WR-TIMEZONE:Europe/Berlin
BEGIN:VEVENT
DTSTART;VALUE=DATE:20230429
DTEND;VALUE=DATE:20230501
UID:3C44F34B-E68B-47F6-985F-4296979FB7FC
SUMMARY:LG-FCI-Qualifikation
CREATED:20230410T153929Z
DTSTAMP:20230410T153929Z
URL:https://svlg07.de/index.php/terminkalender/lg-fci-qualifikation
LAST-MODIFIED:20230410T154057Z
SEQUENCE:88
LOCATION:
GEO:51.95520300;9.11183200
X-LOCATION-DISPLAYNAME:OG Blomberg
X-ACCESS:1
X-HITS:27
X-COLOR:0de3f7
X-SHOW-END-TIME:0
END:VEVENT
BEGIN:VEVENT
DTSTART;VALUE=DATE:20230812
DTEND;VALUE=DATE:20230814
UID:C5E2B280-EFDD-4957-8B30-A66DB4B24FFE
SUMMARY:LGA
CREATED:20230411T080306Z
DTSTAMP:20230411T080306Z
URL:https://svlg07.de/index.php/terminkalender/lga
LAST-MODIFIED:20230527T084152Z
SEQUENCE:3976726
LOCATION:
GEO:51.94586000;8.91829800
X-LOCATION-DISPLAYNAME:OG Detmold
X-ACCESS:1
X-HITS:1678
X-COLOR:0de3f7
X-IMAGE-INTRO:https://svlg07.de/images/Veranstaltungen/20220821103618_IMG_7597.jpg
X-SHOW-END-TIME:0
END:VEVENT
BEGIN:VEVENT
DTSTART;VALUE=DATE:20231001
DTEND;VALUE=DATE:20231002
UID:AACA4135-0573-4E23-9F50-69A184756157
SUMMARY:LG-FH
CREATED:20230411T080958Z
DTSTAMP:20230411T080958Z
URL:https://svlg07.de/index.php/terminkalender/lg-fh
LAST-MODIFIED:20230530T140443Z
SEQUENCE:4254885
LOCATION:
GEO:51.60016700;8.33025800
X-LOCATION-DISPLAYNAME:OG Erwitte
X-ACCESS:1
X-HITS:1130
X-COLOR:0de3f7
X-IMAGE-INTRO:https://svlg07.de/images/Veranstaltungen/A_Werth_2.jpg
X-SHOW-END-TIME:0
END:VEVENT
BEGIN:VEVENT
DTSTART;VALUE=DATE:20231029
DTEND;VALUE=DATE:20231030
UID:77FD359D-1ACB-4107-931C-3B74D392801E
SUMMARY:Kreispokal Paderborn
CREATED:20230504T082614Z
DTSTAMP:20230504T082614Z
URL:https://svlg07.de/index.php/terminkalender/kreispokal-paderborn
LAST-MODIFIED:20230824T080030Z
SEQUENCE:9675256
LOCATION:
GEO:51.79920800;8.81747500
X-LOCATION-DISPLAYNAME:OG Bad Lippspringe
X-ACCESS:1
X-HITS:965
X-COLOR:0de3f7
X-IMAGE-INTRO:https://svlg07.de/images/Veranstaltungen/IMG_2489.jpg
X-SHOW-END-TIME:0
END:VEVENT
BEGIN:VEVENT
DTSTART;VALUE=DATE:20231125
DTEND;VALUE=DATE:20231126
UID:2E0C007D-38D4-4E84-8292-5BBDCCC5D8BC
SUMMARY:Flutlichtpokal Steinheim
CREATED:20231023T182337Z
DTSTAMP:20231023T182337Z
URL:https://svlg07.de/index.php/terminkalender/flutlichtpokal-steinheim
LAST-MODIFIED:20231023T182652Z
SEQUENCE:195
LOCATION:
GEO:51.87748200;9.07034000
X-LOCATION-DISPLAYNAME:OG Steinheim
X-ACCESS:1
X-HITS:798
X-COLOR:0de3f7
X-IMAGE-INTRO:https://svlg07.de/images/Leistung/2023PokalSteinh.jpg
X-SHOW-END-TIME:0
END:VEVENT
BEGIN:VEVENT
DTSTART;VALUE=DATE:20240406
DTEND;VALUE=DATE:20240408
UID:6173BF56-40D5-43F8-B7D4-3E4D1F7EF575
SUMMARY:LG FCI-Qualifikation
CREATED:20231118T130421Z
DTSTAMP:20231118T130421Z
URL:https://svlg07.de/index.php/terminkalender/lg-fci-qualifikation-2
DESCRIPTION:Ausrichter OG Bad Oeynhausen-Lohe
X-ALT-DESC;FMTTYPE=text/html:<p>Ausrichter OG Bad Oeynhausen-Lohe</p>
LAST-MODIFIED:20231118T131401Z
SEQUENCE:580
LOCATION:
GEO:52.05611000;8.70982300
X-LOCATION-DISPLAYNAME:HSV Bad Salzuflen
X-ACCESS:1
X-HITS:2539
X-COLOR:0de3f7
X-IMAGE-INTRO:https://svlg07.de/images/Veranstaltungen/IMG_2489.jpg
X-SHOW-END-TIME:0
END:VEVENT
BEGIN:VEVENT
DTSTART;VALUE=DATE:20240414
DTEND;VALUE=DATE:20240415
UID:D9504521-20A6-4FB5-A59C-30ABD1415FDA
SUMMARY:Helferschulung
CREATED:20240317T145127Z
DTSTAMP:20240317T145127Z
URL:https://svlg07.de/index.php/terminkalender/helferschulung-2
LAST-MODIFIED:20240319T083712Z
SEQUENCE:150345
LOCATION:
GEO:52.17306700;9.00835900
X-LOCATION-DISPLAYNAME:OG Stemmen
X-ACCESS:1
X-HITS:1000
X-COLOR:0de3f7
X-IMAGE-INTRO:https://svlg07.de/images/Leistung/MaxN.jpg
X-SHOW-END-TIME:0
END:VEVENT
BEGIN:VEVENT
DTSTART;VALUE=DATE:20241013
DTEND;VALUE=DATE:20241014
UID:E9C5EB97-372E-4A51-9AB1-91F3312A60C9
SUMMARY:LG-FH
CREATED:20231118T130915Z
DTSTAMP:20231118T130915Z
URL:https://svlg07.de/index.php/terminkalender/lg-fh-2
DESCRIPTION:Richter: Dennis Große-Wietfeld
X-ALT-DESC;FMTTYPE=text/html:<p><span style="font-family: arial, helvetica, sans-serif; font-size: 12pt;">Richter: Dennis Große-Wietfeld</span></p>
LAST-MODIFIED:20240812T080915Z
SEQUENCE:23137200
LOCATION:
GEO:51.94586000;8.91829800
X-LOCATION-DISPLAYNAME:OG Detmold
X-ACCESS:1
X-HITS:1184
X-COLOR:0de3f7
X-IMAGE-INTRO:https://svlg07.de/images/Veranstaltungen/A_Werth_2.jpg
X-SHOW-END-TIME:0
END:VEVENT
BEGIN:VEVENT
DTSTART;VALUE=DATE:20241020
DTEND;VALUE=DATE:20241021
UID:D1556383-E0F8-40F3-BA85-DDDDD7E2C506
SUMMARY:Kreispokal Paderborn
CREATED:20240819T073333Z
DTSTAMP:20240819T073333Z
URL:https://svlg07.de/index.php/terminkalender/kreispokal-paderborn-2
LAST-MODIFIED:20240819T073431Z
SEQUENCE:58
LOCATION:
GEO:51.77945300;8.59857600
X-LOCATION-DISPLAYNAME:OG Delbrück
X-ACCESS:1
X-HITS:925
X-COLOR:0de3f7
X-IMAGE-INTRO:https://svlg07.de/images/Veranstaltungen/IMG_2489.jpg
X-SHOW-END-TIME:0
END:VEVENT
END:VCALENDAR