BEGIN:VCALENDAR
VERSION:2.0
PRODID:DPCALENDAR
CALSCALE:GREGORIAN
BEGIN:VTIMEZONE
TZID:Europe/Berlin
X-MICROSOFT-CDO-TZID:4
BEGIN:STANDARD
DTSTART:20251026T010000
TZOFFSETFROM:+0200
TZOFFSETTO:+0100
TZNAME:CET
END:STANDARD
BEGIN:STANDARD
DTSTART:20261025T010000
TZOFFSETFROM:+0200
TZOFFSETTO:+0100
TZNAME:CET
END:STANDARD
BEGIN:DAYLIGHT
DTSTART:20260329T010000
TZOFFSETFROM:+0100
TZOFFSETTO:+0200
TZNAME:CEST
END:DAYLIGHT
END:VTIMEZONE
X-WR-TIMEZONE:Europe/Berlin
BEGIN:VEVENT
DTSTART;VALUE=DATE:20230721
DTEND;VALUE=DATE:20230724
UID:A5262E1E-589F-4C80-9095-CC025A6FE87A
SUMMARY:LG-Jugendzeltlager
CREATED:20230411T075809Z
DTSTAMP:20230411T075809Z
URL:https://svlg07.de/index.php/terminkalender/lg-jugendzeltlager
LAST-MODIFIED:20230527T084004Z
SEQUENCE:3976915
LOCATION:
GEO:51.95520300;9.11183200
X-LOCATION-DISPLAYNAME:OG Blomberg
X-ACCESS:1
X-HITS:966
X-COLOR:f786cd
X-IMAGE-INTRO:https://svlg07.de/images/Veranstaltungen/27bab291-c737-4fe2-b45a-4489a0f66c08.JPG
X-SHOW-END-TIME:0
END:VEVENT
BEGIN:VEVENT
DTSTART;VALUE=DATE:20230729
DTEND;VALUE=DATE:20230730
UID:237A6009-1EDC-4876-BFEC-F60CBDD7F435
SUMMARY:LG-Jugendschau
CREATED:20230411T075900Z
DTSTAMP:20230411T075900Z
URL:https://svlg07.de/index.php/terminkalender/lg-jugendschau
LAST-MODIFIED:20230527T084103Z
SEQUENCE:3976923
LOCATION:
GEO:51.86397500;8.52874400
X-LOCATION-DISPLAYNAME:OG Verl
X-ACCESS:1
X-HITS:996
X-COLOR:f786cd
X-IMAGE-INTRO:https://svlg07.de/images/Veranstaltungen/P1020151.jpg
X-SHOW-END-TIME:0
END:VEVENT
BEGIN:VEVENT
DTSTART;VALUE=DATE:20240420
DTEND;VALUE=DATE:20240421
UID:4C21CF11-6A4C-4C1B-9883-D9C3FDD579E9
SUMMARY:LGJJM
CREATED:20231118T130800Z
DTSTAMP:20231118T130800Z
URL:https://svlg07.de/index.php/terminkalender/lgjjm
LAST-MODIFIED:20240303T090837Z
SEQUENCE:9144037
LOCATION:
GEO:51.98885300;8.19058500
X-LOCATION-DISPLAYNAME:OG Greffen
X-ACCESS:1
X-HITS:1309
X-COLOR:f786cd
X-IMAGE-INTRO:https://svlg07.de/images/Jugend/WhatsApp_Image_2022-06-04_at_19.50.14.jpeg
X-SHOW-END-TIME:0
END:VEVENT
BEGIN:VEVENT
DTSTART;VALUE=DATE:20240518
DTEND;VALUE=DATE:20240521
UID:8FCC50BF-2F87-4AA7-859B-05A7A33CDE0B
SUMMARY:DJJM
CREATED:20231128T161702Z
DTSTAMP:20231128T161702Z
URL:https://svlg07.de/index.php/terminkalender/djjm-2
DESCRIPTION:https://www.schaeferhunde.de/djjm
X-ALT-DESC;FMTTYPE=text/html:<p><a href="https://www.schaeferhunde.de/djjm">https://www.schaeferhunde.de/djjm</a></p>
LAST-MODIFIED:20240303T091448Z
SEQUENCE:8269066
LOCATION:
GEO:48.63168460;12.50947396
X-LOCATION-DISPLAYNAME:Dingolfing
X-ACCESS:1
X-HITS:1841
X-COLOR:f786cd
X-IMAGE-INTRO:https://svlg07.de/images/Jugend/DJJM24.jpg
X-SHOW-END-TIME:0
END:VEVENT
BEGIN:VEVENT
DTSTART;VALUE=DATE:20240727
DTEND;VALUE=DATE:20240728
UID:FCE3C49E-638A-47FE-B18F-E2CD87071870
SUMMARY:LG-Zuchtschau Jugend
CREATED:20240107T090944Z
DTSTAMP:20240107T090944Z
URL:https://svlg07.de/index.php/terminkalender/lg-zuchtschau-jugend
DESCRIPTION:Sportplatz Lemgo Lüerdissen\NRichterDaniel HanswillemenkeJens Lambertus
X-ALT-DESC;FMTTYPE=text/html:<p>Sportplatz Lemgo Lüerdissen</p><p>Richter<br />Daniel Hanswillemenke<br />Jens Lambertus</p>
LAST-MODIFIED:20240515T084010Z
SEQUENCE:11143826
LOCATION:
GEO:52.11118400;8.91832000
X-LOCATION-DISPLAYNAME:OG Kalletal
X-ACCESS:1
X-HITS:1959
X-COLOR:f786cd
X-IMAGE-INTRO:https://svlg07.de/images/Veranstaltungen/P1020151.jpg
X-SHOW-END-TIME:0
END:VEVENT
BEGIN:VEVENT
DTSTART;VALUE=DATE:20240801
DTEND;VALUE=DATE:20240805
UID:32905894-EF3F-4C33-A431-407FA08B82F8
SUMMARY:LG-Jugendzeltlager
CREATED:20240123T144626Z
DTSTAMP:20240123T144626Z
URL:https://svlg07.de/index.php/terminkalender/lg-jugendzeltlager-2
LAST-MODIFIED:20240322T093600Z
SEQUENCE:5078974
LOCATION:
GEO:51.72723800;8.80231400
X-LOCATION-DISPLAYNAME:OG Paderborn
X-ACCESS:1
X-HITS:1390
X-COLOR:f786cd
X-IMAGE-INTRO:https://svlg07.de/images/Jugend/27bab291-c737-4fe2-b45a-4489a0f66c08.JPG
X-SHOW-END-TIME:0
END:VEVENT
BEGIN:VEVENT
DTSTART;TZID=Europe/Berlin:20250207T183000
DTEND;TZID=Europe/Berlin:20250207T193000
UID:3F9CB87E-8FF4-4919-9988-3CD3B5FBCC32
SUMMARY:Jugendinfoabend
CREATED:20250117T151257Z
DTSTAMP:20250117T151257Z
URL:https://svlg07.de/index.php/terminkalender/jugendinfoabend
LAST-MODIFIED:20250117T151327Z
SEQUENCE:30
LOCATION:
GEO:51.98885300;8.19058500
X-LOCATION-DISPLAYNAME:OG Greffen
X-ACCESS:1
X-HITS:193
X-COLOR:f786cd
X-SHOW-END-TIME:0
END:VEVENT
BEGIN:VEVENT
DTSTART;TZID=Europe/Berlin:20250222T090000
DTEND;TZID=Europe/Berlin:20250223T100000
UID:9010B08C-72F8-47F7-A789-9C7178DA978C
SUMMARY:Jugend Seminar
CREATED:20250117T151431Z
DTSTAMP:20250117T151431Z
URL:https://svlg07.de/index.php/terminkalender/jugend-seminar
LAST-MODIFIED:20250117T151540Z
SEQUENCE:69
LOCATION:
GEO:51.98885300;8.19058500
X-LOCATION-DISPLAYNAME:OG Greffen
X-ACCESS:1
X-HITS:505
X-COLOR:f786cd
X-SHOW-END-TIME:0
END:VEVENT
BEGIN:VEVENT
DTSTART;VALUE=DATE:20250412
DTEND;VALUE=DATE:20250413
UID:FBE566F4-89C8-4DDC-AEF8-1CC7F234D38D
SUMMARY:LG-JJM
CREATED:20241026T074554Z
DTSTAMP:20241026T074554Z
URL:https://svlg07.de/index.php/terminkalender/lg-jjm
LAST-MODIFIED:20241026T074554Z
SEQUENCE:0
LOCATION:
GEO:52.17592300;8.61422100
X-LOCATION-DISPLAYNAME:OG Doberg-Hiddenhausen
X-ACCESS:1
X-HITS:1166
X-COLOR:f786cd
X-IMAGE-INTRO:https://svlg07.de/images/Veranstaltungen/DJJM_2019.jpg
X-SHOW-END-TIME:0
END:VEVENT
BEGIN:VEVENT
DTSTART;VALUE=DATE:20250607
DTEND;VALUE=DATE:20250610
UID:98EE3343-7C9A-486E-8783-210F30A90DA3
SUMMARY:DJJM
CREATED:20241026T075154Z
DTSTAMP:20241026T075154Z
URL:https://svlg07.de/index.php/terminkalender/djjm-3
LAST-MODIFIED:20250522T083112Z
SEQUENCE:17973558
LOCATION:
GEO:52.12563669;7.10532503
X-LOCATION-DISPLAYNAME:Dinkelstadion Heek
X-ACCESS:1
X-HITS:947
X-COLOR:f786cd
X-IMAGE-INTRO:https://svlg07.de/images/Veranstaltungen/Screenshot%202025-02-24%20102041.png
X-SHOW-END-TIME:0
END:VEVENT
BEGIN:VEVENT
DTSTART;VALUE=DATE:20260314
DTEND;VALUE=DATE:20260315
UID:ADB908BD-7570-4F3F-AE39-420666EB442B
SUMMARY:LG-Jugend-u.Juniorenmeisterschaft
CREATED:20251123T161328Z
DTSTAMP:20251123T161328Z
URL:https://svlg07.de/index.php/terminkalender/lg-jugend-u-juniorenmeisterschaft
LAST-MODIFIED:20260228T161957Z
SEQUENCE:8381189
LOCATION:
GEO:51.68474200;8.37102600
X-LOCATION-DISPLAYNAME:OG Lippstadt
X-ACCESS:1
X-HITS:751
X-COLOR:f786cd
X-IMAGE-INTRO:https://svlg07.de/images/Veranstaltungen/DJJM_2019.jpg
X-SHOW-END-TIME:0
END:VEVENT
END:VCALENDAR