BEGIN:VCALENDAR
VERSION:2.0
PRODID:DPCALENDAR
CALSCALE:GREGORIAN
BEGIN:VTIMEZONE
TZID:Europe/Berlin
X-MICROSOFT-CDO-TZID:4
BEGIN:STANDARD
DTSTART:20251026T010000
TZOFFSETFROM:+0200
TZOFFSETTO:+0100
TZNAME:CET
END:STANDARD
BEGIN:STANDARD
DTSTART:20261025T010000
TZOFFSETFROM:+0200
TZOFFSETTO:+0100
TZNAME:CET
END:STANDARD
BEGIN:DAYLIGHT
DTSTART:20260329T010000
TZOFFSETFROM:+0100
TZOFFSETTO:+0200
TZNAME:CEST
END:DAYLIGHT
END:VTIMEZONE
X-WR-TIMEZONE:Europe/Berlin
BEGIN:VEVENT
DTSTART;VALUE=DATE:20230708
DTEND;VALUE=DATE:20230709
UID:652D2371-5126-44C4-8E32-BE6A79632080
SUMMARY:Körung
CREATED:20230411T075702Z
DTSTAMP:20230411T075702Z
URL:https://svlg07.de/index.php/terminkalender/koerung-2
DESCRIPTION:Körmeister Torsten KallenbachKörhelfer Jens Lauströer
X-ALT-DESC;FMTTYPE=text/html:<p>Körmeister Torsten Kallenbach<br />Körhelfer Jens Lauströer</p>
LAST-MODIFIED:20230527T084650Z
SEQUENCE:3977388
LOCATION:
GEO:51.94586000;8.91829800
X-LOCATION-DISPLAYNAME:OG Detmold
X-ACCESS:1
X-HITS:926
X-COLOR:3366cc
X-IMAGE-INTRO:https://svlg07.de/images/Veranstaltungen/Koerung.jpg
X-SHOW-END-TIME:0
END:VEVENT
BEGIN:VEVENT
DTSTART;VALUE=DATE:20230819
DTEND;VALUE=DATE:20230820
UID:5674CC0F-A91F-4ED9-AF76-4F075490734C
SUMMARY:Körung
CREATED:20230411T080701Z
DTSTAMP:20230411T080701Z
URL:https://svlg07.de/index.php/terminkalender/koerung-3
DESCRIPTION:Körmeister Jürgen Maibüchen\NKörhelfer Max Niermann
X-ALT-DESC;FMTTYPE=text/html:<p>Körmeister Jürgen Maibüchen</p><p>Körhelfer Max Niermann</p>
LAST-MODIFIED:20230527T084230Z
SEQUENCE:3976529
LOCATION:
GEO:51.83303700;8.34740900
X-LOCATION-DISPLAYNAME:OG Wiedenbrück
X-ACCESS:1
X-HITS:967
X-COLOR:3366cc
X-IMAGE-INTRO:https://svlg07.de/images/Veranstaltungen/Koerung.jpg
X-SHOW-END-TIME:0
END:VEVENT
BEGIN:VEVENT
DTSTART;VALUE=DATE:20231028
DTEND;VALUE=DATE:20231029
UID:2322C516-EBA2-41AD-83A4-5FA3752AB94C
SUMMARY:Körung
CREATED:20230411T081225Z
DTSTAMP:20230411T081225Z
URL:https://svlg07.de/index.php/terminkalender/koerung-4
DESCRIPTION:Körmeister Otto Körber-AhrensKörhelfer Tim Kronshage
X-ALT-DESC;FMTTYPE=text/html:<p>Körmeister Otto Körber-Ahrens<br />Körhelfer Tim Kronshage</p>
LAST-MODIFIED:20231006T064043Z
SEQUENCE:15373698
LOCATION:
GEO:51.91754200;8.32380400
X-LOCATION-DISPLAYNAME:OG Gütersloh
X-ACCESS:1
X-HITS:949
X-COLOR:3366cc
X-IMAGE-INTRO:https://svlg07.de/images/Veranstaltungen/Koerung.jpg
X-SHOW-END-TIME:0
END:VEVENT
BEGIN:VEVENT
DTSTART;VALUE=DATE:20240316
DTEND;VALUE=DATE:20240317
UID:8BA14CE5-5467-4D42-A507-11765638D2A2
SUMMARY:Körung 
CREATED:20231117T140313Z
DTSTAMP:20231117T140313Z
URL:https://svlg07.de/index.php/terminkalender/koerung-5
DESCRIPTION:Körm. Mandy MenzelHelfer: Ilja Frische
X-ALT-DESC;FMTTYPE=text/html:<p>Körm. Mandy Menzel<br />Helfer: Ilja Frische</p>
LAST-MODIFIED:20231208T150215Z
SEQUENCE:1817942
LOCATION:
GEO:51.72723800;8.80231400
X-LOCATION-DISPLAYNAME:OG Paderborn
X-ACCESS:1
X-HITS:1311
X-COLOR:3366cc
X-IMAGE-INTRO:https://svlg07.de/images/Veranstaltungen/Koerung.jpg
X-SHOW-END-TIME:0
END:VEVENT
BEGIN:VEVENT
DTSTART;VALUE=DATE:20240504
DTEND;VALUE=DATE:20240505
UID:3D2ACE16-4F7A-4428-AA17-A3AD142D8AF8
SUMMARY:Körung
CREATED:20231117T140525Z
DTSTAMP:20231117T140525Z
URL:https://svlg07.de/index.php/terminkalender/koerung-6
DESCRIPTION:Körm. Thorsten KallenbachHelfer: Jens Lauströer
X-ALT-DESC;FMTTYPE=text/html:<p>Körm. Thorsten Kallenbach<br />Helfer: Jens Lauströer</p>
LAST-MODIFIED:20231208T150233Z
SEQUENCE:1817828
LOCATION:
GEO:51.91754200;8.32380400
X-LOCATION-DISPLAYNAME:OG Gütersloh
X-ACCESS:1
X-HITS:1592
X-COLOR:3366cc
X-IMAGE-INTRO:https://svlg07.de/images/Veranstaltungen/PSX_20210702_225101.jpg
X-SHOW-END-TIME:0
END:VEVENT
BEGIN:VEVENT
DTSTART;VALUE=DATE:20240622
DTEND;VALUE=DATE:20240623
UID:E0633527-F26C-47CB-854A-FB01554559E8
SUMMARY:Körung
CREATED:20231117T140624Z
DTSTAMP:20231117T140624Z
URL:https://svlg07.de/index.php/terminkalender/koerung-7
DESCRIPTION:Körm. Jürgen MaibüchenHelfer: Tim Kronshage
X-ALT-DESC;FMTTYPE=text/html:<p>Körm. Jürgen Maibüchen<br />Helfer: Tim Kronshage</p>
LAST-MODIFIED:20240303T091922Z
SEQUENCE:9227578
LOCATION:
GEO:51.83303700;8.34740900
X-LOCATION-DISPLAYNAME:OG Wiedenbrück
X-ACCESS:1
X-HITS:1356
X-COLOR:3366cc
X-IMAGE-INTRO:https://svlg07.de/images/Veranstaltungen/Koerung2.jpg
X-SHOW-END-TIME:0
END:VEVENT
BEGIN:VEVENT
DTSTART;VALUE=DATE:20240824
DTEND;VALUE=DATE:20240825
UID:5CD2811F-F180-4614-A40F-05ABAEA49C40
SUMMARY:Körung
CREATED:20231117T140716Z
DTSTAMP:20231117T140716Z
URL:https://svlg07.de/index.php/terminkalender/koerung-8
DESCRIPTION:Körm. Wolfgang HaßgallHelfer: Dominik Zerning
X-ALT-DESC;FMTTYPE=text/html:<p>Körm. Wolfgang Haßgall<br />Helfer: Dominik Zerning</p>
LAST-MODIFIED:20240729T082914Z
SEQUENCE:22011718
LOCATION:
GEO:52.20391200;8.65615200
X-LOCATION-DISPLAYNAME:OG Kirchlengern
X-ACCESS:1
X-HITS:1205
X-COLOR:3366cc
X-IMAGE-INTRO:https://svlg07.de/images/Veranstaltungen/PSX_20210702_225101.jpg
X-SHOW-END-TIME:0
END:VEVENT
BEGIN:VEVENT
DTSTART;VALUE=DATE:20241109
DTEND;VALUE=DATE:20241110
UID:BF65415A-DFE5-4F21-81DC-573AF2B5D333
SUMMARY:Körung
CREATED:20231117T140811Z
DTSTAMP:20231117T140811Z
URL:https://svlg07.de/index.php/terminkalender/koerung-9
DESCRIPTION:Körm. Otto Körber-AhrensHelfer: Tobias Blome
X-ALT-DESC;FMTTYPE=text/html:<p>Körm. Otto Körber-Ahrens<br />Helfer: Tobias Blome</p>
LAST-MODIFIED:20240812T081634Z
SEQUENCE:23220503
LOCATION:
GEO:52.29750400;8.93602200
X-LOCATION-DISPLAYNAME:OG Minden
X-ACCESS:1
X-HITS:1301
X-COLOR:3366cc
X-IMAGE-INTRO:https://svlg07.de/images/Veranstaltungen/Koerung2.jpg
X-SHOW-END-TIME:0
END:VEVENT
BEGIN:VEVENT
DTSTART;VALUE=DATE:20250315
DTEND;VALUE=DATE:20250316
UID:502394FB-94DE-42EC-AF13-E2D73482373A
SUMMARY:Körung
CREATED:20241026T074322Z
DTSTAMP:20241026T074322Z
URL:https://svlg07.de/index.php/terminkalender/koerung-10
DESCRIPTION:Körmeister WischallaHelfer Tobias BlomeMeldestelle: Nicole Birth, Telefon 0151 27274195, E-Mail: hans-juergen.birth@t-online.de
X-ALT-DESC;FMTTYPE=text/html:<p>Körmeister Wischalla<br />Helfer Tobias Blome<br />Meldestelle:&nbsp;Nicole Birth, Telefon 0151 27274195, E-Mail: hans-juergen.birth@t-online.de</p>
LAST-MODIFIED:20250118T085010Z
SEQUENCE:7261608
LOCATION:
GEO:51.94586000;8.91829800
X-LOCATION-DISPLAYNAME:OG Detmold
X-ACCESS:1
X-HITS:1199
X-COLOR:3366cc
X-IMAGE-INTRO:https://svlg07.de/images/Veranstaltungen/PSX_20210702_225101.jpg
X-SHOW-END-TIME:0
END:VEVENT
BEGIN:VEVENT
DTSTART;VALUE=DATE:20250524
DTEND;VALUE=DATE:20250525
UID:5EB2053D-8248-4BF5-ABEA-60B4BB4D87C1
SUMMARY:Körung 
CREATED:20241026T074813Z
DTSTAMP:20241026T074813Z
URL:https://svlg07.de/index.php/terminkalender/koerung-11
DESCRIPTION:Körmeister: Christoph LudwigHelfer: Dominik ZerningMeldestelle: Petra Dexel, Telefon 0172 2379910; E-Mail: petra@dexel.de
X-ALT-DESC;FMTTYPE=text/html:<p>Körmeister: Christoph Ludwig<br />Helfer: Dominik Zerning<br />Meldestelle: Petra Dexel, Telefon 0172 2379910; E-Mail: petra@dexel.de</p>
LAST-MODIFIED:20250224T091959Z
SEQUENCE:10459906
LOCATION:
GEO:51.72723800;8.80231400
X-LOCATION-DISPLAYNAME:OG Paderborn
X-ACCESS:1
X-HITS:1080
X-COLOR:3366cc
X-IMAGE-INTRO:https://svlg07.de/images/Veranstaltungen/IMG-20190426-.jpg
X-SHOW-END-TIME:0
END:VEVENT
BEGIN:VEVENT
DTSTART;VALUE=DATE:20250712
DTEND;VALUE=DATE:20250713
UID:8CCEEEF0-3CE4-4616-A084-6A7BCB2B1F5F
SUMMARY:Körung 
CREATED:20241026T075418Z
DTSTAMP:20241026T075418Z
URL:https://svlg07.de/index.php/terminkalender/koerung-12
DESCRIPTION:Körmeister Horst JanssenHelfer: Jens LauströerPetra Aulenkamp, Telefon 0176 61616960, E-Mail: aulenkamp1@aol.com
X-ALT-DESC;FMTTYPE=text/html:<p>Körmeister Horst Janssen<br />Helfer: Jens Lauströer<br />Petra Aulenkamp, Telefon 0176 61616960, E-Mail: <a href="mailto:aulenkamp1@aol.com"></a><a href="mailto:aulenkamp1@aol.com">aulenkamp1@aol.com</a></p>
LAST-MODIFIED:20250224T092707Z
SEQUENCE:10459969
LOCATION:
GEO:51.91754200;8.32380400
X-LOCATION-DISPLAYNAME:OG Gütersloh
X-ACCESS:1
X-HITS:886
X-COLOR:3366cc
X-IMAGE-INTRO:https://svlg07.de/images/Veranstaltungen/Koerung.jpg
X-SHOW-END-TIME:0
END:VEVENT
BEGIN:VEVENT
DTSTART;VALUE=DATE:20250809
DTEND;VALUE=DATE:20250810
UID:649D10DB-0729-427F-9AE7-F8DEC946679B
SUMMARY:Körung 
CREATED:20241026T075632Z
DTSTAMP:20241026T075632Z
URL:https://svlg07.de/index.php/terminkalender/koerung-13
DESCRIPTION:Körmeister Norbert WettlauferHelfer: Max NiermannMeldestelle: Andreas Heß, Telefon 0170 2120404, E-Mail: gruenpark@gmx.net
X-ALT-DESC;FMTTYPE=text/html:<p>Körmeister Norbert Wettlaufer<br />Helfer: Max Niermann<br />Meldestelle: Andreas Heß, Telefon 0170 2120404, E-Mail: <a href="mailto:gruenpark@gmx.net"></a><a href="mailto:gruenpark@gmx.net">gruenpark@gmx.net</a></p>
LAST-MODIFIED:20250521T140047Z
SEQUENCE:17906655
LOCATION:
GEO:51.83303700;8.34740900
X-LOCATION-DISPLAYNAME:OG Wiedenbrück
X-ACCESS:1
X-HITS:892
X-COLOR:3366cc
X-IMAGE-INTRO:https://svlg07.de/images/Veranstaltungen/PSX_20210702_225101.jpg
X-SHOW-END-TIME:0
END:VEVENT
BEGIN:VEVENT
DTSTART;VALUE=DATE:20251011
DTEND;VALUE=DATE:20251012
UID:78996E19-71F3-4B6E-A466-F9BB8244DE01
SUMMARY:Körung 
CREATED:20241026T080046Z
DTSTAMP:20241026T080046Z
URL:https://svlg07.de/index.php/terminkalender/koerung-14
DESCRIPTION:Körmeister Daniel HanswillemenkeHelfer: Jens LauströerMeldestelle: Christian Josephs, Telefon 0171 9319819, E-Mail: c-t.josephs@web.de
X-ALT-DESC;FMTTYPE=text/html:<p>Körmeister Daniel Hanswillemenke<br />Helfer: Jens Lauströer<br />Meldestelle: Christian Josephs, Telefon 0171 9319819, E-Mail: <a href="mailto:c-t.josephs@web.de"></a><a href="mailto:c-t.josephs@web.de">c-t.josephs@web.de</a></p>
LAST-MODIFIED:20250911T130014Z
SEQUENCE:27665968
LOCATION:
GEO:52.20391200;8.65615200
X-LOCATION-DISPLAYNAME:OG Kirchlengern
X-ACCESS:1
X-HITS:826
X-COLOR:3366cc
X-IMAGE-INTRO:https://svlg07.de/images/Veranstaltungen/PSX_20210702_225101.jpg
X-SHOW-END-TIME:0
END:VEVENT
BEGIN:VEVENT
DTSTART;VALUE=DATE:20251129
DTEND;VALUE=DATE:20251130
UID:648F4259-B9AE-4D13-9D6B-9745712B795B
SUMMARY:Körung 
CREATED:20241026T080403Z
DTSTAMP:20241026T080403Z
URL:https://svlg07.de/index.php/terminkalender/koerung-15
DESCRIPTION:Körmeister Otto Körber-AhrensHelfer: Ilja FrischeMeldestelle: Björn Menzel, Telefon 015115621986, E-Mail: menzel_bjoern@web.de
X-ALT-DESC;FMTTYPE=text/html:<p>Körmeister Otto Körber-Ahrens<br />Helfer: Ilja Frische<br />Meldestelle: Björn Menzel, Telefon 015115621986, E-Mail: <a href="mailto:menzel_bjoern@web.de"></a><a href="mailto:menzel_bjoern@web.de">menzel_bjoern@web.de</a></p>
LAST-MODIFIED:20251123T162205Z
SEQUENCE:33985082
LOCATION:
GEO:52.29750400;8.93602200
X-LOCATION-DISPLAYNAME:OG Minden
X-ACCESS:1
X-HITS:711
X-COLOR:3366cc
X-IMAGE-INTRO:https://svlg07.de/images/Veranstaltungen/PSX_20210702_225101.jpg
X-SHOW-END-TIME:0
END:VEVENT
BEGIN:VEVENT
DTSTART;VALUE=DATE:20260321
DTEND;VALUE=DATE:20260322
UID:88AA2C03-1DDC-41D0-871F-D54E26A4355E
SUMMARY:Körung 
CREATED:20251123T161614Z
DTSTAMP:20251123T161614Z
URL:https://svlg07.de/index.php/terminkalender/koerung-16
DESCRIPTION:Körmeister: Daniel HanswillemenkeHelfer: Ilja Frische
X-ALT-DESC;FMTTYPE=text/html:<p>Körmeister: Daniel Hanswillemenke<br />Helfer: Ilja Frische</p>
LAST-MODIFIED:20251214T180010Z
SEQUENCE:1820636
LOCATION:
GEO:52.29750400;8.93602200
X-LOCATION-DISPLAYNAME:OG Minden
X-ACCESS:1
X-HITS:590
X-COLOR:3366cc
X-IMAGE-INTRO:https://svlg07.de/images/Veranstaltungen/Koerung.jpg
X-SHOW-END-TIME:0
END:VEVENT
BEGIN:VEVENT
DTSTART;VALUE=DATE:20260502
DTEND;VALUE=DATE:20260503
UID:D663EF95-521F-4013-9373-D235EE4B97DB
SUMMARY:Körung 
CREATED:20251123T161657Z
DTSTAMP:20251123T161657Z
URL:https://svlg07.de/index.php/terminkalender/koerung-17
DESCRIPTION:Körmeister: Daniel HanswillemenkeHelfer: Jens Lauströer
X-ALT-DESC;FMTTYPE=text/html:<p>Körmeister: Daniel Hanswillemenke<br />Helfer: Jens Lauströer</p>
LAST-MODIFIED:20251214T180053Z
SEQUENCE:1820636
LOCATION:
GEO:51.94586000;8.91829800
X-LOCATION-DISPLAYNAME:OG Detmold
X-ACCESS:1
X-HITS:593
X-COLOR:3366cc
X-IMAGE-INTRO:https://svlg07.de/images/Veranstaltungen/Koerung2.jpg
X-SHOW-END-TIME:0
END:VEVENT
BEGIN:VEVENT
DTSTART;VALUE=DATE:20260627
DTEND;VALUE=DATE:20260628
UID:520FA690-20C8-4A28-864F-28D2E912EBC1
SUMMARY:Körung 
CREATED:20251123T161823Z
DTSTAMP:20251123T161823Z
URL:https://svlg07.de/index.php/terminkalender/koerung-18
DESCRIPTION:Körmeister: Lutz WischallaHelfer: Dominik Zerning
X-ALT-DESC;FMTTYPE=text/html:<p>Körmeister: Lutz Wischalla<br />Helfer: Dominik Zerning</p>
LAST-MODIFIED:20260413T085955Z
SEQUENCE:12156092
LOCATION:
GEO:51.83303700;8.34740900
X-LOCATION-DISPLAYNAME:OG Wiedenbrück
X-ACCESS:1
X-HITS:222
X-COLOR:3366cc
X-IMAGE-INTRO:https://svlg07.de/images/Veranstaltungen/PSX_20210702_225101.jpg
X-SHOW-END-TIME:0
END:VEVENT
BEGIN:VEVENT
DTSTART;VALUE=DATE:20260801
DTEND;VALUE=DATE:20260802
UID:9A491F77-761A-4962-8303-8ECDC8F51EE6
SUMMARY:Körung 
CREATED:20251123T161854Z
DTSTAMP:20251123T161854Z
URL:https://svlg07.de/index.php/terminkalender/koerung-19
DESCRIPTION:Körmeister: Wolfgeng HaßgallHelfer: Max Niermann
X-ALT-DESC;FMTTYPE=text/html:<p>Körmeister: Wolfgeng Haßgall<br />Helfer: Max Niermann</p>
LAST-MODIFIED:20251214T180214Z
SEQUENCE:1820600
LOCATION:
GEO:51.72723800;8.80231400
X-LOCATION-DISPLAYNAME:OG Paderborn
X-ACCESS:1
X-HITS:162
X-COLOR:3366cc
X-SHOW-END-TIME:0
END:VEVENT
BEGIN:VEVENT
DTSTART;VALUE=DATE:20261017
DTEND;VALUE=DATE:20261018
UID:713D52A7-C056-4667-A37C-526CAD4DED98
SUMMARY:Körung 
CREATED:20251123T162049Z
DTSTAMP:20251123T162049Z
URL:https://svlg07.de/index.php/terminkalender/koerung-20
DESCRIPTION:Körmeister: Daniel HanswillemenkeHelfer: Marco Dälken
X-ALT-DESC;FMTTYPE=text/html:<p>Körmeister: Daniel Hanswillemenke<br />Helfer: Marco Dälken</p>
LAST-MODIFIED:20251214T180307Z
SEQUENCE:1820538
LOCATION:
GEO:51.91754200;8.32380400
X-LOCATION-DISPLAYNAME:OG Gütersloh
X-ACCESS:1
X-HITS:197
X-COLOR:3366cc
X-SHOW-END-TIME:0
END:VEVENT
BEGIN:VEVENT
DTSTART;VALUE=DATE:20261121
DTEND;VALUE=DATE:20261122
UID:C8EEFF34-9A88-4519-B1D5-F976B5E403C4
SUMMARY:Körung
CREATED:20251123T162122Z
DTSTAMP:20251123T162122Z
URL:https://svlg07.de/index.php/terminkalender/koerung-21
DESCRIPTION:Körmeister: Daniel HanswillemenkeHelfer: Mark Börger
X-ALT-DESC;FMTTYPE=text/html:<p>Körmeister: Daniel Hanswillemenke<br />Helfer: Mark Börger</p>
LAST-MODIFIED:20251214T180351Z
SEQUENCE:1820549
LOCATION:
GEO:52.20391200;8.65615200
X-LOCATION-DISPLAYNAME:OG Kirchlengern
X-ACCESS:1
X-HITS:154
X-COLOR:3366cc
X-SHOW-END-TIME:0
END:VEVENT
END:VCALENDAR